BEGIN:VCALENDAR
VERSION:2.0
PRODID:-//MVCAC - ECPv6.15.20//NONSGML v1.0//EN
CALSCALE:GREGORIAN
METHOD:PUBLISH
X-WR-CALNAME:MVCAC
X-ORIGINAL-URL:https://www.mvcac.org
X-WR-CALDESC:Events for MVCAC
REFRESH-INTERVAL;VALUE=DURATION:PT1H
X-Robots-Tag:noindex
X-PUBLISHED-TTL:PT1H
BEGIN:VTIMEZONE
TZID:America/Los_Angeles
BEGIN:DAYLIGHT
TZOFFSETFROM:-0800
TZOFFSETTO:-0700
TZNAME:PDT
DTSTART:20290311T100000
END:DAYLIGHT
BEGIN:STANDARD
TZOFFSETFROM:-0700
TZOFFSETTO:-0800
TZNAME:PST
DTSTART:20291104T090000
END:STANDARD
BEGIN:DAYLIGHT
TZOFFSETFROM:-0800
TZOFFSETTO:-0700
TZNAME:PDT
DTSTART:20300310T100000
END:DAYLIGHT
BEGIN:STANDARD
TZOFFSETFROM:-0700
TZOFFSETTO:-0800
TZNAME:PST
DTSTART:20301103T090000
END:STANDARD
BEGIN:DAYLIGHT
TZOFFSETFROM:-0800
TZOFFSETTO:-0700
TZNAME:PDT
DTSTART:20310309T100000
END:DAYLIGHT
BEGIN:STANDARD
TZOFFSETFROM:-0700
TZOFFSETTO:-0800
TZNAME:PST
DTSTART:20311102T090000
END:STANDARD
END:VTIMEZONE
BEGIN:VEVENT
DTSTART;TZID=America/Los_Angeles:20300125T130000
DTEND;TZID=America/Los_Angeles:20300125T140000
DTSTAMP:20260419T220404
CREATED:20251230T160945Z
LAST-MODIFIED:20251230T160945Z
UID:10000482-1895576400-1895580000@www.mvcac.org
SUMMARY:Lab Technologies Committee
DESCRIPTION:Recurring monthly meetings on the last Friday of every month from 1:00pm – 2:00pm PDT \nZoom meeting link is behind the MVCAC member login here.
URL:https://www.mvcac.org/event/lab-technologies-committee-2/2030-01-25/
LOCATION:Online
CATEGORIES:Committee Meeting
END:VEVENT
BEGIN:VEVENT
DTSTART;TZID=America/Los_Angeles:20300212T090000
DTEND;TZID=America/Los_Angeles:20300212T100000
DTSTAMP:20260419T220404
CREATED:20251209T191858Z
LAST-MODIFIED:20251230T161036Z
UID:10000542-1897117200-1897120800@www.mvcac.org
SUMMARY:Regulatory Affairs Committee Meeting
DESCRIPTION:Recurring monthly meetings on the second Tuesday of every month from 9:00am – 10:00am PDT\n\n\n\n\nZoom meeting link is behind the MVCAC member login here.
URL:https://www.mvcac.org/event/regulatory-affairs-committee-meeting-2/2030-02-12/
LOCATION:Online
CATEGORIES:Committee Meeting
END:VEVENT
BEGIN:VEVENT
DTSTART;TZID=America/Los_Angeles:20300221T133000
DTEND;TZID=America/Los_Angeles:20300221T143000
DTSTAMP:20260419T220404
CREATED:20251209T192101Z
LAST-MODIFIED:20251230T161115Z
UID:10000602-1897911000-1897914600@www.mvcac.org
SUMMARY:IVM Committee Meeting
DESCRIPTION:Recurring monthly meetings on the  3rd Thursday of the month at 1:30pm PDT\n\n\n\n\nZoom meeting link is behind the MVCAC member login here.
URL:https://www.mvcac.org/event/ivm-committee-meeting-2/2030-02-21/
LOCATION:Online
CATEGORIES:Committee Meeting
END:VEVENT
BEGIN:VEVENT
DTSTART;TZID=America/Los_Angeles:20300222T130000
DTEND;TZID=America/Los_Angeles:20300222T140000
DTSTAMP:20260419T220404
CREATED:20251230T160945Z
LAST-MODIFIED:20251230T160945Z
UID:10000483-1897995600-1897999200@www.mvcac.org
SUMMARY:Lab Technologies Committee
DESCRIPTION:Recurring monthly meetings on the last Friday of every month from 1:00pm – 2:00pm PDT \nZoom meeting link is behind the MVCAC member login here.
URL:https://www.mvcac.org/event/lab-technologies-committee-2/2030-02-22/
LOCATION:Online
CATEGORIES:Committee Meeting
END:VEVENT
BEGIN:VEVENT
DTSTART;TZID=America/Los_Angeles:20300312T090000
DTEND;TZID=America/Los_Angeles:20300312T100000
DTSTAMP:20260419T220404
CREATED:20251209T191858Z
LAST-MODIFIED:20251230T161036Z
UID:10000543-1899536400-1899540000@www.mvcac.org
SUMMARY:Regulatory Affairs Committee Meeting
DESCRIPTION:Recurring monthly meetings on the second Tuesday of every month from 9:00am – 10:00am PDT\n\n\n\n\nZoom meeting link is behind the MVCAC member login here.
URL:https://www.mvcac.org/event/regulatory-affairs-committee-meeting-2/2030-03-12/
LOCATION:Online
CATEGORIES:Committee Meeting
END:VEVENT
BEGIN:VEVENT
DTSTART;TZID=America/Los_Angeles:20300321T133000
DTEND;TZID=America/Los_Angeles:20300321T143000
DTSTAMP:20260419T220404
CREATED:20251209T192101Z
LAST-MODIFIED:20251230T161115Z
UID:10000603-1900330200-1900333800@www.mvcac.org
SUMMARY:IVM Committee Meeting
DESCRIPTION:Recurring monthly meetings on the  3rd Thursday of the month at 1:30pm PDT\n\n\n\n\nZoom meeting link is behind the MVCAC member login here.
URL:https://www.mvcac.org/event/ivm-committee-meeting-2/2030-03-21/
LOCATION:Online
CATEGORIES:Committee Meeting
END:VEVENT
BEGIN:VEVENT
DTSTART;TZID=America/Los_Angeles:20300329T130000
DTEND;TZID=America/Los_Angeles:20300329T140000
DTSTAMP:20260419T220404
CREATED:20251230T160945Z
LAST-MODIFIED:20251230T160945Z
UID:10000484-1901019600-1901023200@www.mvcac.org
SUMMARY:Lab Technologies Committee
DESCRIPTION:Recurring monthly meetings on the last Friday of every month from 1:00pm – 2:00pm PDT \nZoom meeting link is behind the MVCAC member login here.
URL:https://www.mvcac.org/event/lab-technologies-committee-2/2030-03-29/
LOCATION:Online
CATEGORIES:Committee Meeting
END:VEVENT
BEGIN:VEVENT
DTSTART;TZID=America/Los_Angeles:20300409T090000
DTEND;TZID=America/Los_Angeles:20300409T100000
DTSTAMP:20260419T220404
CREATED:20251209T191858Z
LAST-MODIFIED:20251230T161036Z
UID:10000544-1901955600-1901959200@www.mvcac.org
SUMMARY:Regulatory Affairs Committee Meeting
DESCRIPTION:Recurring monthly meetings on the second Tuesday of every month from 9:00am – 10:00am PDT\n\n\n\n\nZoom meeting link is behind the MVCAC member login here.
URL:https://www.mvcac.org/event/regulatory-affairs-committee-meeting-2/2030-04-09/
LOCATION:Online
CATEGORIES:Committee Meeting
END:VEVENT
BEGIN:VEVENT
DTSTART;TZID=America/Los_Angeles:20300418T133000
DTEND;TZID=America/Los_Angeles:20300418T143000
DTSTAMP:20260419T220404
CREATED:20251209T192101Z
LAST-MODIFIED:20251230T161115Z
UID:10000604-1902749400-1902753000@www.mvcac.org
SUMMARY:IVM Committee Meeting
DESCRIPTION:Recurring monthly meetings on the  3rd Thursday of the month at 1:30pm PDT\n\n\n\n\nZoom meeting link is behind the MVCAC member login here.
URL:https://www.mvcac.org/event/ivm-committee-meeting-2/2030-04-18/
LOCATION:Online
CATEGORIES:Committee Meeting
END:VEVENT
BEGIN:VEVENT
DTSTART;TZID=America/Los_Angeles:20300426T130000
DTEND;TZID=America/Los_Angeles:20300426T140000
DTSTAMP:20260419T220404
CREATED:20251230T160945Z
LAST-MODIFIED:20251230T160945Z
UID:10000485-1903438800-1903442400@www.mvcac.org
SUMMARY:Lab Technologies Committee
DESCRIPTION:Recurring monthly meetings on the last Friday of every month from 1:00pm – 2:00pm PDT \nZoom meeting link is behind the MVCAC member login here.
URL:https://www.mvcac.org/event/lab-technologies-committee-2/2030-04-26/
LOCATION:Online
CATEGORIES:Committee Meeting
END:VEVENT
BEGIN:VEVENT
DTSTART;TZID=America/Los_Angeles:20300514T090000
DTEND;TZID=America/Los_Angeles:20300514T100000
DTSTAMP:20260419T220404
CREATED:20251209T191858Z
LAST-MODIFIED:20251230T161036Z
UID:10000545-1904979600-1904983200@www.mvcac.org
SUMMARY:Regulatory Affairs Committee Meeting
DESCRIPTION:Recurring monthly meetings on the second Tuesday of every month from 9:00am – 10:00am PDT\n\n\n\n\nZoom meeting link is behind the MVCAC member login here.
URL:https://www.mvcac.org/event/regulatory-affairs-committee-meeting-2/2030-05-14/
LOCATION:Online
CATEGORIES:Committee Meeting
END:VEVENT
BEGIN:VEVENT
DTSTART;TZID=America/Los_Angeles:20300516T133000
DTEND;TZID=America/Los_Angeles:20300516T143000
DTSTAMP:20260419T220404
CREATED:20251209T192101Z
LAST-MODIFIED:20251230T161115Z
UID:10000605-1905168600-1905172200@www.mvcac.org
SUMMARY:IVM Committee Meeting
DESCRIPTION:Recurring monthly meetings on the  3rd Thursday of the month at 1:30pm PDT\n\n\n\n\nZoom meeting link is behind the MVCAC member login here.
URL:https://www.mvcac.org/event/ivm-committee-meeting-2/2030-05-16/
LOCATION:Online
CATEGORIES:Committee Meeting
END:VEVENT
BEGIN:VEVENT
DTSTART;TZID=America/Los_Angeles:20300531T130000
DTEND;TZID=America/Los_Angeles:20300531T140000
DTSTAMP:20260419T220404
CREATED:20251230T160945Z
LAST-MODIFIED:20251230T160945Z
UID:10000486-1906462800-1906466400@www.mvcac.org
SUMMARY:Lab Technologies Committee
DESCRIPTION:Recurring monthly meetings on the last Friday of every month from 1:00pm – 2:00pm PDT \nZoom meeting link is behind the MVCAC member login here.
URL:https://www.mvcac.org/event/lab-technologies-committee-2/2030-05-31/
LOCATION:Online
CATEGORIES:Committee Meeting
END:VEVENT
BEGIN:VEVENT
DTSTART;TZID=America/Los_Angeles:20300611T090000
DTEND;TZID=America/Los_Angeles:20300611T100000
DTSTAMP:20260419T220404
CREATED:20251209T191858Z
LAST-MODIFIED:20251230T161036Z
UID:10000546-1907398800-1907402400@www.mvcac.org
SUMMARY:Regulatory Affairs Committee Meeting
DESCRIPTION:Recurring monthly meetings on the second Tuesday of every month from 9:00am – 10:00am PDT\n\n\n\n\nZoom meeting link is behind the MVCAC member login here.
URL:https://www.mvcac.org/event/regulatory-affairs-committee-meeting-2/2030-06-11/
LOCATION:Online
CATEGORIES:Committee Meeting
END:VEVENT
BEGIN:VEVENT
DTSTART;TZID=America/Los_Angeles:20300620T133000
DTEND;TZID=America/Los_Angeles:20300620T143000
DTSTAMP:20260419T220404
CREATED:20251209T192101Z
LAST-MODIFIED:20251230T161115Z
UID:10000606-1908192600-1908196200@www.mvcac.org
SUMMARY:IVM Committee Meeting
DESCRIPTION:Recurring monthly meetings on the  3rd Thursday of the month at 1:30pm PDT\n\n\n\n\nZoom meeting link is behind the MVCAC member login here.
URL:https://www.mvcac.org/event/ivm-committee-meeting-2/2030-06-20/
LOCATION:Online
CATEGORIES:Committee Meeting
END:VEVENT
BEGIN:VEVENT
DTSTART;TZID=America/Los_Angeles:20300628T130000
DTEND;TZID=America/Los_Angeles:20300628T140000
DTSTAMP:20260419T220404
CREATED:20251230T160945Z
LAST-MODIFIED:20251230T160945Z
UID:10000487-1908882000-1908885600@www.mvcac.org
SUMMARY:Lab Technologies Committee
DESCRIPTION:Recurring monthly meetings on the last Friday of every month from 1:00pm – 2:00pm PDT \nZoom meeting link is behind the MVCAC member login here.
URL:https://www.mvcac.org/event/lab-technologies-committee-2/2030-06-28/
LOCATION:Online
CATEGORIES:Committee Meeting
END:VEVENT
BEGIN:VEVENT
DTSTART;TZID=America/Los_Angeles:20300709T090000
DTEND;TZID=America/Los_Angeles:20300709T100000
DTSTAMP:20260419T220404
CREATED:20251209T191858Z
LAST-MODIFIED:20251230T161036Z
UID:10000547-1909818000-1909821600@www.mvcac.org
SUMMARY:Regulatory Affairs Committee Meeting
DESCRIPTION:Recurring monthly meetings on the second Tuesday of every month from 9:00am – 10:00am PDT\n\n\n\n\nZoom meeting link is behind the MVCAC member login here.
URL:https://www.mvcac.org/event/regulatory-affairs-committee-meeting-2/2030-07-09/
LOCATION:Online
CATEGORIES:Committee Meeting
END:VEVENT
BEGIN:VEVENT
DTSTART;TZID=America/Los_Angeles:20300718T133000
DTEND;TZID=America/Los_Angeles:20300718T143000
DTSTAMP:20260419T220404
CREATED:20251209T192101Z
LAST-MODIFIED:20251230T161115Z
UID:10000607-1910611800-1910615400@www.mvcac.org
SUMMARY:IVM Committee Meeting
DESCRIPTION:Recurring monthly meetings on the  3rd Thursday of the month at 1:30pm PDT\n\n\n\n\nZoom meeting link is behind the MVCAC member login here.
URL:https://www.mvcac.org/event/ivm-committee-meeting-2/2030-07-18/
LOCATION:Online
CATEGORIES:Committee Meeting
END:VEVENT
BEGIN:VEVENT
DTSTART;TZID=America/Los_Angeles:20300726T130000
DTEND;TZID=America/Los_Angeles:20300726T140000
DTSTAMP:20260419T220404
CREATED:20251230T160945Z
LAST-MODIFIED:20251230T160945Z
UID:10000488-1911301200-1911304800@www.mvcac.org
SUMMARY:Lab Technologies Committee
DESCRIPTION:Recurring monthly meetings on the last Friday of every month from 1:00pm – 2:00pm PDT \nZoom meeting link is behind the MVCAC member login here.
URL:https://www.mvcac.org/event/lab-technologies-committee-2/2030-07-26/
LOCATION:Online
CATEGORIES:Committee Meeting
END:VEVENT
BEGIN:VEVENT
DTSTART;TZID=America/Los_Angeles:20300813T090000
DTEND;TZID=America/Los_Angeles:20300813T100000
DTSTAMP:20260419T220404
CREATED:20251209T191858Z
LAST-MODIFIED:20251230T161036Z
UID:10000548-1912842000-1912845600@www.mvcac.org
SUMMARY:Regulatory Affairs Committee Meeting
DESCRIPTION:Recurring monthly meetings on the second Tuesday of every month from 9:00am – 10:00am PDT\n\n\n\n\nZoom meeting link is behind the MVCAC member login here.
URL:https://www.mvcac.org/event/regulatory-affairs-committee-meeting-2/2030-08-13/
LOCATION:Online
CATEGORIES:Committee Meeting
END:VEVENT
BEGIN:VEVENT
DTSTART;TZID=America/Los_Angeles:20300815T133000
DTEND;TZID=America/Los_Angeles:20300815T143000
DTSTAMP:20260419T220404
CREATED:20251209T192101Z
LAST-MODIFIED:20251230T161115Z
UID:10000608-1913031000-1913034600@www.mvcac.org
SUMMARY:IVM Committee Meeting
DESCRIPTION:Recurring monthly meetings on the  3rd Thursday of the month at 1:30pm PDT\n\n\n\n\nZoom meeting link is behind the MVCAC member login here.
URL:https://www.mvcac.org/event/ivm-committee-meeting-2/2030-08-15/
LOCATION:Online
CATEGORIES:Committee Meeting
END:VEVENT
BEGIN:VEVENT
DTSTART;TZID=America/Los_Angeles:20300830T130000
DTEND;TZID=America/Los_Angeles:20300830T140000
DTSTAMP:20260419T220404
CREATED:20251230T160945Z
LAST-MODIFIED:20251230T160945Z
UID:10000489-1914325200-1914328800@www.mvcac.org
SUMMARY:Lab Technologies Committee
DESCRIPTION:Recurring monthly meetings on the last Friday of every month from 1:00pm – 2:00pm PDT \nZoom meeting link is behind the MVCAC member login here.
URL:https://www.mvcac.org/event/lab-technologies-committee-2/2030-08-30/
LOCATION:Online
CATEGORIES:Committee Meeting
END:VEVENT
BEGIN:VEVENT
DTSTART;TZID=America/Los_Angeles:20300910T090000
DTEND;TZID=America/Los_Angeles:20300910T100000
DTSTAMP:20260419T220404
CREATED:20251209T191858Z
LAST-MODIFIED:20251230T161036Z
UID:10000549-1915261200-1915264800@www.mvcac.org
SUMMARY:Regulatory Affairs Committee Meeting
DESCRIPTION:Recurring monthly meetings on the second Tuesday of every month from 9:00am – 10:00am PDT\n\n\n\n\nZoom meeting link is behind the MVCAC member login here.
URL:https://www.mvcac.org/event/regulatory-affairs-committee-meeting-2/2030-09-10/
LOCATION:Online
CATEGORIES:Committee Meeting
END:VEVENT
BEGIN:VEVENT
DTSTART;TZID=America/Los_Angeles:20300919T133000
DTEND;TZID=America/Los_Angeles:20300919T143000
DTSTAMP:20260419T220404
CREATED:20251209T192101Z
LAST-MODIFIED:20251230T161115Z
UID:10000609-1916055000-1916058600@www.mvcac.org
SUMMARY:IVM Committee Meeting
DESCRIPTION:Recurring monthly meetings on the  3rd Thursday of the month at 1:30pm PDT\n\n\n\n\nZoom meeting link is behind the MVCAC member login here.
URL:https://www.mvcac.org/event/ivm-committee-meeting-2/2030-09-19/
LOCATION:Online
CATEGORIES:Committee Meeting
END:VEVENT
BEGIN:VEVENT
DTSTART;TZID=America/Los_Angeles:20300927T130000
DTEND;TZID=America/Los_Angeles:20300927T140000
DTSTAMP:20260419T220404
CREATED:20251230T160945Z
LAST-MODIFIED:20251230T160945Z
UID:10000490-1916744400-1916748000@www.mvcac.org
SUMMARY:Lab Technologies Committee
DESCRIPTION:Recurring monthly meetings on the last Friday of every month from 1:00pm – 2:00pm PDT \nZoom meeting link is behind the MVCAC member login here.
URL:https://www.mvcac.org/event/lab-technologies-committee-2/2030-09-27/
LOCATION:Online
CATEGORIES:Committee Meeting
END:VEVENT
BEGIN:VEVENT
DTSTART;TZID=America/Los_Angeles:20301008T090000
DTEND;TZID=America/Los_Angeles:20301008T100000
DTSTAMP:20260419T220404
CREATED:20251209T191858Z
LAST-MODIFIED:20251230T161036Z
UID:10000550-1917680400-1917684000@www.mvcac.org
SUMMARY:Regulatory Affairs Committee Meeting
DESCRIPTION:Recurring monthly meetings on the second Tuesday of every month from 9:00am – 10:00am PDT\n\n\n\n\nZoom meeting link is behind the MVCAC member login here.
URL:https://www.mvcac.org/event/regulatory-affairs-committee-meeting-2/2030-10-08/
LOCATION:Online
CATEGORIES:Committee Meeting
END:VEVENT
BEGIN:VEVENT
DTSTART;TZID=America/Los_Angeles:20301017T133000
DTEND;TZID=America/Los_Angeles:20301017T143000
DTSTAMP:20260419T220404
CREATED:20251209T192101Z
LAST-MODIFIED:20251230T161115Z
UID:10000610-1918474200-1918477800@www.mvcac.org
SUMMARY:IVM Committee Meeting
DESCRIPTION:Recurring monthly meetings on the  3rd Thursday of the month at 1:30pm PDT\n\n\n\n\nZoom meeting link is behind the MVCAC member login here.
URL:https://www.mvcac.org/event/ivm-committee-meeting-2/2030-10-17/
LOCATION:Online
CATEGORIES:Committee Meeting
END:VEVENT
BEGIN:VEVENT
DTSTART;TZID=America/Los_Angeles:20301025T130000
DTEND;TZID=America/Los_Angeles:20301025T140000
DTSTAMP:20260419T220404
CREATED:20251230T160945Z
LAST-MODIFIED:20251230T160945Z
UID:10000491-1919163600-1919167200@www.mvcac.org
SUMMARY:Lab Technologies Committee
DESCRIPTION:Recurring monthly meetings on the last Friday of every month from 1:00pm – 2:00pm PDT \nZoom meeting link is behind the MVCAC member login here.
URL:https://www.mvcac.org/event/lab-technologies-committee-2/2030-10-25/
LOCATION:Online
CATEGORIES:Committee Meeting
END:VEVENT
BEGIN:VEVENT
DTSTART;TZID=America/Los_Angeles:20301112T090000
DTEND;TZID=America/Los_Angeles:20301112T100000
DTSTAMP:20260419T220404
CREATED:20251209T191858Z
LAST-MODIFIED:20251230T161036Z
UID:10000551-1920704400-1920708000@www.mvcac.org
SUMMARY:Regulatory Affairs Committee Meeting
DESCRIPTION:Recurring monthly meetings on the second Tuesday of every month from 9:00am – 10:00am PDT\n\n\n\n\nZoom meeting link is behind the MVCAC member login here.
URL:https://www.mvcac.org/event/regulatory-affairs-committee-meeting-2/2030-11-12/
LOCATION:Online
CATEGORIES:Committee Meeting
END:VEVENT
BEGIN:VEVENT
DTSTART;TZID=America/Los_Angeles:20301121T133000
DTEND;TZID=America/Los_Angeles:20301121T143000
DTSTAMP:20260419T220404
CREATED:20251209T192101Z
LAST-MODIFIED:20251230T161115Z
UID:10000611-1921498200-1921501800@www.mvcac.org
SUMMARY:IVM Committee Meeting
DESCRIPTION:Recurring monthly meetings on the  3rd Thursday of the month at 1:30pm PDT\n\n\n\n\nZoom meeting link is behind the MVCAC member login here.
URL:https://www.mvcac.org/event/ivm-committee-meeting-2/2030-11-21/
LOCATION:Online
CATEGORIES:Committee Meeting
END:VEVENT
END:VCALENDAR