BEGIN:VCALENDAR
VERSION:2.0
PRODID:-//MVCAC - ECPv6.15.20//NONSGML v1.0//EN
CALSCALE:GREGORIAN
METHOD:PUBLISH
X-ORIGINAL-URL:https://www.mvcac.org
X-WR-CALDESC:Events for MVCAC
REFRESH-INTERVAL;VALUE=DURATION:PT1H
X-Robots-Tag:noindex
X-PUBLISHED-TTL:PT1H
BEGIN:VTIMEZONE
TZID:America/Los_Angeles
BEGIN:DAYLIGHT
TZOFFSETFROM:-0800
TZOFFSETTO:-0700
TZNAME:PDT
DTSTART:20260308T100000
END:DAYLIGHT
BEGIN:STANDARD
TZOFFSETFROM:-0700
TZOFFSETTO:-0800
TZNAME:PST
DTSTART:20261101T090000
END:STANDARD
BEGIN:DAYLIGHT
TZOFFSETFROM:-0800
TZOFFSETTO:-0700
TZNAME:PDT
DTSTART:20270314T100000
END:DAYLIGHT
BEGIN:STANDARD
TZOFFSETFROM:-0700
TZOFFSETTO:-0800
TZNAME:PST
DTSTART:20271107T090000
END:STANDARD
BEGIN:DAYLIGHT
TZOFFSETFROM:-0800
TZOFFSETTO:-0700
TZNAME:PDT
DTSTART:20280312T100000
END:DAYLIGHT
BEGIN:STANDARD
TZOFFSETFROM:-0700
TZOFFSETTO:-0800
TZNAME:PST
DTSTART:20281105T090000
END:STANDARD
BEGIN:DAYLIGHT
TZOFFSETFROM:-0800
TZOFFSETTO:-0700
TZNAME:PDT
DTSTART:20290311T100000
END:DAYLIGHT
BEGIN:STANDARD
TZOFFSETFROM:-0700
TZOFFSETTO:-0800
TZNAME:PST
DTSTART:20291104T090000
END:STANDARD
END:VTIMEZONE
BEGIN:VEVENT
DTSTART;TZID=America/Los_Angeles:20270924T130000
DTEND;TZID=America/Los_Angeles:20270924T140000
DTSTAMP:20260421T172555
CREATED:20251230T160945Z
LAST-MODIFIED:20251230T160945Z
UID:10000454-1821790800-1821794400@www.mvcac.org
SUMMARY:Lab Technologies Committee
DESCRIPTION:Recurring monthly meetings on the last Friday of every month from 1:00pm – 2:00pm PDT \nZoom meeting link is behind the MVCAC member login here.
URL:https://www.mvcac.org/event/lab-technologies-committee-2/2027-09-24/
LOCATION:Online
CATEGORIES:Committee Meeting
END:VEVENT
BEGIN:VEVENT
DTSTART;TZID=America/Los_Angeles:20271012T090000
DTEND;TZID=America/Los_Angeles:20271012T100000
DTSTAMP:20260421T172555
CREATED:20251209T191858Z
LAST-MODIFIED:20251230T161036Z
UID:10000514-1823331600-1823335200@www.mvcac.org
SUMMARY:Regulatory Affairs Committee Meeting
DESCRIPTION:Recurring monthly meetings on the second Tuesday of every month from 9:00am – 10:00am PDT\n\n\n\n\nZoom meeting link is behind the MVCAC member login here.
URL:https://www.mvcac.org/event/regulatory-affairs-committee-meeting-2/2027-10-12/
LOCATION:Online
CATEGORIES:Committee Meeting
END:VEVENT
BEGIN:VEVENT
DTSTART;TZID=America/Los_Angeles:20271013T130000
DTEND;TZID=America/Los_Angeles:20271013T140000
DTSTAMP:20260421T172555
CREATED:20260420T200328Z
LAST-MODIFIED:20260420T200328Z
UID:10000650-1823432400-1823436000@www.mvcac.org
SUMMARY:Public Relations Committee
DESCRIPTION:Recurring monthly meetings on the second Wednesday of every month from 1:00pm – 2:00pm PDT \nZoom meeting link is behind the MVCAC member login here.
URL:https://www.mvcac.org/event/public-relations-committee/2027-10-13/
LOCATION:Online
CATEGORIES:Committee Meeting
END:VEVENT
BEGIN:VEVENT
DTSTART;TZID=America/Los_Angeles:20271021T133000
DTEND;TZID=America/Los_Angeles:20271021T143000
DTSTAMP:20260421T172555
CREATED:20251209T192101Z
LAST-MODIFIED:20251230T161115Z
UID:10000574-1824125400-1824129000@www.mvcac.org
SUMMARY:IVM Committee Meeting
DESCRIPTION:Recurring monthly meetings on the  3rd Thursday of the month at 1:30pm PDT\n\n\n\n\nZoom meeting link is behind the MVCAC member login here.
URL:https://www.mvcac.org/event/ivm-committee-meeting-2/2027-10-21/
LOCATION:Online
CATEGORIES:Committee Meeting
END:VEVENT
BEGIN:VEVENT
DTSTART;TZID=America/Los_Angeles:20271029T130000
DTEND;TZID=America/Los_Angeles:20271029T140000
DTSTAMP:20260421T172555
CREATED:20251230T160945Z
LAST-MODIFIED:20251230T160945Z
UID:10000455-1824814800-1824818400@www.mvcac.org
SUMMARY:Lab Technologies Committee
DESCRIPTION:Recurring monthly meetings on the last Friday of every month from 1:00pm – 2:00pm PDT \nZoom meeting link is behind the MVCAC member login here.
URL:https://www.mvcac.org/event/lab-technologies-committee-2/2027-10-29/
LOCATION:Online
CATEGORIES:Committee Meeting
END:VEVENT
BEGIN:VEVENT
DTSTART;TZID=America/Los_Angeles:20271109T090000
DTEND;TZID=America/Los_Angeles:20271109T100000
DTSTAMP:20260421T172555
CREATED:20251209T191858Z
LAST-MODIFIED:20251230T161036Z
UID:10000515-1825750800-1825754400@www.mvcac.org
SUMMARY:Regulatory Affairs Committee Meeting
DESCRIPTION:Recurring monthly meetings on the second Tuesday of every month from 9:00am – 10:00am PDT\n\n\n\n\nZoom meeting link is behind the MVCAC member login here.
URL:https://www.mvcac.org/event/regulatory-affairs-committee-meeting-2/2027-11-09/
LOCATION:Online
CATEGORIES:Committee Meeting
END:VEVENT
BEGIN:VEVENT
DTSTART;TZID=America/Los_Angeles:20271110T130000
DTEND;TZID=America/Los_Angeles:20271110T140000
DTSTAMP:20260421T172555
CREATED:20260420T200328Z
LAST-MODIFIED:20260420T200328Z
UID:10000651-1825851600-1825855200@www.mvcac.org
SUMMARY:Public Relations Committee
DESCRIPTION:Recurring monthly meetings on the second Wednesday of every month from 1:00pm – 2:00pm PDT \nZoom meeting link is behind the MVCAC member login here.
URL:https://www.mvcac.org/event/public-relations-committee/2027-11-10/
LOCATION:Online
CATEGORIES:Committee Meeting
END:VEVENT
BEGIN:VEVENT
DTSTART;TZID=America/Los_Angeles:20271118T133000
DTEND;TZID=America/Los_Angeles:20271118T143000
DTSTAMP:20260421T172555
CREATED:20251209T192101Z
LAST-MODIFIED:20251230T161115Z
UID:10000575-1826544600-1826548200@www.mvcac.org
SUMMARY:IVM Committee Meeting
DESCRIPTION:Recurring monthly meetings on the  3rd Thursday of the month at 1:30pm PDT\n\n\n\n\nZoom meeting link is behind the MVCAC member login here.
URL:https://www.mvcac.org/event/ivm-committee-meeting-2/2027-11-18/
LOCATION:Online
CATEGORIES:Committee Meeting
END:VEVENT
BEGIN:VEVENT
DTSTART;TZID=America/Los_Angeles:20271126T130000
DTEND;TZID=America/Los_Angeles:20271126T140000
DTSTAMP:20260421T172555
CREATED:20251230T160945Z
LAST-MODIFIED:20251230T160945Z
UID:10000456-1827234000-1827237600@www.mvcac.org
SUMMARY:Lab Technologies Committee
DESCRIPTION:Recurring monthly meetings on the last Friday of every month from 1:00pm – 2:00pm PDT \nZoom meeting link is behind the MVCAC member login here.
URL:https://www.mvcac.org/event/lab-technologies-committee-2/2027-11-26/
LOCATION:Online
CATEGORIES:Committee Meeting
END:VEVENT
BEGIN:VEVENT
DTSTART;TZID=America/Los_Angeles:20271208T130000
DTEND;TZID=America/Los_Angeles:20271208T140000
DTSTAMP:20260421T172555
CREATED:20260420T200328Z
LAST-MODIFIED:20260420T200328Z
UID:10000652-1828270800-1828274400@www.mvcac.org
SUMMARY:Public Relations Committee
DESCRIPTION:Recurring monthly meetings on the second Wednesday of every month from 1:00pm – 2:00pm PDT \nZoom meeting link is behind the MVCAC member login here.
URL:https://www.mvcac.org/event/public-relations-committee/2027-12-08/
LOCATION:Online
CATEGORIES:Committee Meeting
END:VEVENT
BEGIN:VEVENT
DTSTART;TZID=America/Los_Angeles:20271214T090000
DTEND;TZID=America/Los_Angeles:20271214T100000
DTSTAMP:20260421T172555
CREATED:20251209T191858Z
LAST-MODIFIED:20251230T161036Z
UID:10000516-1828774800-1828778400@www.mvcac.org
SUMMARY:Regulatory Affairs Committee Meeting
DESCRIPTION:Recurring monthly meetings on the second Tuesday of every month from 9:00am – 10:00am PDT\n\n\n\n\nZoom meeting link is behind the MVCAC member login here.
URL:https://www.mvcac.org/event/regulatory-affairs-committee-meeting-2/2027-12-14/
LOCATION:Online
CATEGORIES:Committee Meeting
END:VEVENT
BEGIN:VEVENT
DTSTART;TZID=America/Los_Angeles:20271216T133000
DTEND;TZID=America/Los_Angeles:20271216T143000
DTSTAMP:20260421T172555
CREATED:20251209T192101Z
LAST-MODIFIED:20251230T161115Z
UID:10000576-1828963800-1828967400@www.mvcac.org
SUMMARY:IVM Committee Meeting
DESCRIPTION:Recurring monthly meetings on the  3rd Thursday of the month at 1:30pm PDT\n\n\n\n\nZoom meeting link is behind the MVCAC member login here.
URL:https://www.mvcac.org/event/ivm-committee-meeting-2/2027-12-16/
LOCATION:Online
CATEGORIES:Committee Meeting
END:VEVENT
BEGIN:VEVENT
DTSTART;TZID=America/Los_Angeles:20271231T130000
DTEND;TZID=America/Los_Angeles:20271231T140000
DTSTAMP:20260421T172555
CREATED:20251230T160945Z
LAST-MODIFIED:20251230T160945Z
UID:10000457-1830258000-1830261600@www.mvcac.org
SUMMARY:Lab Technologies Committee
DESCRIPTION:Recurring monthly meetings on the last Friday of every month from 1:00pm – 2:00pm PDT \nZoom meeting link is behind the MVCAC member login here.
URL:https://www.mvcac.org/event/lab-technologies-committee-2/2027-12-31/
LOCATION:Online
CATEGORIES:Committee Meeting
END:VEVENT
BEGIN:VEVENT
DTSTART;TZID=America/Los_Angeles:20280111T090000
DTEND;TZID=America/Los_Angeles:20280111T100000
DTSTAMP:20260421T172555
CREATED:20251209T191858Z
LAST-MODIFIED:20251230T161036Z
UID:10000517-1831194000-1831197600@www.mvcac.org
SUMMARY:Regulatory Affairs Committee Meeting
DESCRIPTION:Recurring monthly meetings on the second Tuesday of every month from 9:00am – 10:00am PDT\n\n\n\n\nZoom meeting link is behind the MVCAC member login here.
URL:https://www.mvcac.org/event/regulatory-affairs-committee-meeting-2/2028-01-11/
LOCATION:Online
CATEGORIES:Committee Meeting
END:VEVENT
BEGIN:VEVENT
DTSTART;TZID=America/Los_Angeles:20280112T130000
DTEND;TZID=America/Los_Angeles:20280112T140000
DTSTAMP:20260421T172555
CREATED:20260420T200328Z
LAST-MODIFIED:20260420T200328Z
UID:10000653-1831294800-1831298400@www.mvcac.org
SUMMARY:Public Relations Committee
DESCRIPTION:Recurring monthly meetings on the second Wednesday of every month from 1:00pm – 2:00pm PDT \nZoom meeting link is behind the MVCAC member login here.
URL:https://www.mvcac.org/event/public-relations-committee/2028-01-12/
LOCATION:Online
CATEGORIES:Committee Meeting
END:VEVENT
BEGIN:VEVENT
DTSTART;TZID=America/Los_Angeles:20280120T133000
DTEND;TZID=America/Los_Angeles:20280120T143000
DTSTAMP:20260421T172555
CREATED:20251209T192101Z
LAST-MODIFIED:20251230T161115Z
UID:10000577-1831987800-1831991400@www.mvcac.org
SUMMARY:IVM Committee Meeting
DESCRIPTION:Recurring monthly meetings on the  3rd Thursday of the month at 1:30pm PDT\n\n\n\n\nZoom meeting link is behind the MVCAC member login here.
URL:https://www.mvcac.org/event/ivm-committee-meeting-2/2028-01-20/
LOCATION:Online
CATEGORIES:Committee Meeting
END:VEVENT
BEGIN:VEVENT
DTSTART;TZID=America/Los_Angeles:20280128T130000
DTEND;TZID=America/Los_Angeles:20280128T140000
DTSTAMP:20260421T172555
CREATED:20251230T160945Z
LAST-MODIFIED:20251230T160945Z
UID:10000458-1832677200-1832680800@www.mvcac.org
SUMMARY:Lab Technologies Committee
DESCRIPTION:Recurring monthly meetings on the last Friday of every month from 1:00pm – 2:00pm PDT \nZoom meeting link is behind the MVCAC member login here.
URL:https://www.mvcac.org/event/lab-technologies-committee-2/2028-01-28/
LOCATION:Online
CATEGORIES:Committee Meeting
END:VEVENT
BEGIN:VEVENT
DTSTART;TZID=America/Los_Angeles:20280208T090000
DTEND;TZID=America/Los_Angeles:20280208T100000
DTSTAMP:20260421T172555
CREATED:20251209T191858Z
LAST-MODIFIED:20251230T161036Z
UID:10000518-1833613200-1833616800@www.mvcac.org
SUMMARY:Regulatory Affairs Committee Meeting
DESCRIPTION:Recurring monthly meetings on the second Tuesday of every month from 9:00am – 10:00am PDT\n\n\n\n\nZoom meeting link is behind the MVCAC member login here.
URL:https://www.mvcac.org/event/regulatory-affairs-committee-meeting-2/2028-02-08/
LOCATION:Online
CATEGORIES:Committee Meeting
END:VEVENT
BEGIN:VEVENT
DTSTART;TZID=America/Los_Angeles:20280209T130000
DTEND;TZID=America/Los_Angeles:20280209T140000
DTSTAMP:20260421T172555
CREATED:20260420T200328Z
LAST-MODIFIED:20260420T200328Z
UID:10000654-1833714000-1833717600@www.mvcac.org
SUMMARY:Public Relations Committee
DESCRIPTION:Recurring monthly meetings on the second Wednesday of every month from 1:00pm – 2:00pm PDT \nZoom meeting link is behind the MVCAC member login here.
URL:https://www.mvcac.org/event/public-relations-committee/2028-02-09/
LOCATION:Online
CATEGORIES:Committee Meeting
END:VEVENT
BEGIN:VEVENT
DTSTART;TZID=America/Los_Angeles:20280217T133000
DTEND;TZID=America/Los_Angeles:20280217T143000
DTSTAMP:20260421T172555
CREATED:20251209T192101Z
LAST-MODIFIED:20251230T161115Z
UID:10000578-1834407000-1834410600@www.mvcac.org
SUMMARY:IVM Committee Meeting
DESCRIPTION:Recurring monthly meetings on the  3rd Thursday of the month at 1:30pm PDT\n\n\n\n\nZoom meeting link is behind the MVCAC member login here.
URL:https://www.mvcac.org/event/ivm-committee-meeting-2/2028-02-17/
LOCATION:Online
CATEGORIES:Committee Meeting
END:VEVENT
BEGIN:VEVENT
DTSTART;TZID=America/Los_Angeles:20280225T130000
DTEND;TZID=America/Los_Angeles:20280225T140000
DTSTAMP:20260421T172555
CREATED:20251230T160945Z
LAST-MODIFIED:20251230T160945Z
UID:10000459-1835096400-1835100000@www.mvcac.org
SUMMARY:Lab Technologies Committee
DESCRIPTION:Recurring monthly meetings on the last Friday of every month from 1:00pm – 2:00pm PDT \nZoom meeting link is behind the MVCAC member login here.
URL:https://www.mvcac.org/event/lab-technologies-committee-2/2028-02-25/
LOCATION:Online
CATEGORIES:Committee Meeting
END:VEVENT
BEGIN:VEVENT
DTSTART;TZID=America/Los_Angeles:20280308T130000
DTEND;TZID=America/Los_Angeles:20280308T140000
DTSTAMP:20260421T172555
CREATED:20260420T200328Z
LAST-MODIFIED:20260420T200328Z
UID:10000655-1836133200-1836136800@www.mvcac.org
SUMMARY:Public Relations Committee
DESCRIPTION:Recurring monthly meetings on the second Wednesday of every month from 1:00pm – 2:00pm PDT \nZoom meeting link is behind the MVCAC member login here.
URL:https://www.mvcac.org/event/public-relations-committee/2028-03-08/
LOCATION:Online
CATEGORIES:Committee Meeting
END:VEVENT
BEGIN:VEVENT
DTSTART;TZID=America/Los_Angeles:20280314T090000
DTEND;TZID=America/Los_Angeles:20280314T100000
DTSTAMP:20260421T172555
CREATED:20251209T191858Z
LAST-MODIFIED:20251230T161036Z
UID:10000519-1836637200-1836640800@www.mvcac.org
SUMMARY:Regulatory Affairs Committee Meeting
DESCRIPTION:Recurring monthly meetings on the second Tuesday of every month from 9:00am – 10:00am PDT\n\n\n\n\nZoom meeting link is behind the MVCAC member login here.
URL:https://www.mvcac.org/event/regulatory-affairs-committee-meeting-2/2028-03-14/
LOCATION:Online
CATEGORIES:Committee Meeting
END:VEVENT
BEGIN:VEVENT
DTSTART;TZID=America/Los_Angeles:20280316T133000
DTEND;TZID=America/Los_Angeles:20280316T143000
DTSTAMP:20260421T172555
CREATED:20251209T192101Z
LAST-MODIFIED:20251230T161115Z
UID:10000579-1836826200-1836829800@www.mvcac.org
SUMMARY:IVM Committee Meeting
DESCRIPTION:Recurring monthly meetings on the  3rd Thursday of the month at 1:30pm PDT\n\n\n\n\nZoom meeting link is behind the MVCAC member login here.
URL:https://www.mvcac.org/event/ivm-committee-meeting-2/2028-03-16/
LOCATION:Online
CATEGORIES:Committee Meeting
END:VEVENT
BEGIN:VEVENT
DTSTART;TZID=America/Los_Angeles:20280331T130000
DTEND;TZID=America/Los_Angeles:20280331T140000
DTSTAMP:20260421T172555
CREATED:20251230T160945Z
LAST-MODIFIED:20251230T160945Z
UID:10000460-1838120400-1838124000@www.mvcac.org
SUMMARY:Lab Technologies Committee
DESCRIPTION:Recurring monthly meetings on the last Friday of every month from 1:00pm – 2:00pm PDT \nZoom meeting link is behind the MVCAC member login here.
URL:https://www.mvcac.org/event/lab-technologies-committee-2/2028-03-31/
LOCATION:Online
CATEGORIES:Committee Meeting
END:VEVENT
BEGIN:VEVENT
DTSTART;TZID=America/Los_Angeles:20280411T090000
DTEND;TZID=America/Los_Angeles:20280411T100000
DTSTAMP:20260421T172555
CREATED:20251209T191858Z
LAST-MODIFIED:20251230T161036Z
UID:10000520-1839056400-1839060000@www.mvcac.org
SUMMARY:Regulatory Affairs Committee Meeting
DESCRIPTION:Recurring monthly meetings on the second Tuesday of every month from 9:00am – 10:00am PDT\n\n\n\n\nZoom meeting link is behind the MVCAC member login here.
URL:https://www.mvcac.org/event/regulatory-affairs-committee-meeting-2/2028-04-11/
LOCATION:Online
CATEGORIES:Committee Meeting
END:VEVENT
BEGIN:VEVENT
DTSTART;TZID=America/Los_Angeles:20280412T130000
DTEND;TZID=America/Los_Angeles:20280412T140000
DTSTAMP:20260421T172555
CREATED:20260420T200328Z
LAST-MODIFIED:20260420T200328Z
UID:10000656-1839157200-1839160800@www.mvcac.org
SUMMARY:Public Relations Committee
DESCRIPTION:Recurring monthly meetings on the second Wednesday of every month from 1:00pm – 2:00pm PDT \nZoom meeting link is behind the MVCAC member login here.
URL:https://www.mvcac.org/event/public-relations-committee/2028-04-12/
LOCATION:Online
CATEGORIES:Committee Meeting
END:VEVENT
BEGIN:VEVENT
DTSTART;TZID=America/Los_Angeles:20280420T133000
DTEND;TZID=America/Los_Angeles:20280420T143000
DTSTAMP:20260421T172555
CREATED:20251209T192101Z
LAST-MODIFIED:20251230T161115Z
UID:10000580-1839850200-1839853800@www.mvcac.org
SUMMARY:IVM Committee Meeting
DESCRIPTION:Recurring monthly meetings on the  3rd Thursday of the month at 1:30pm PDT\n\n\n\n\nZoom meeting link is behind the MVCAC member login here.
URL:https://www.mvcac.org/event/ivm-committee-meeting-2/2028-04-20/
LOCATION:Online
CATEGORIES:Committee Meeting
END:VEVENT
BEGIN:VEVENT
DTSTART;TZID=America/Los_Angeles:20280428T130000
DTEND;TZID=America/Los_Angeles:20280428T140000
DTSTAMP:20260421T172555
CREATED:20251230T160945Z
LAST-MODIFIED:20251230T160945Z
UID:10000461-1840539600-1840543200@www.mvcac.org
SUMMARY:Lab Technologies Committee
DESCRIPTION:Recurring monthly meetings on the last Friday of every month from 1:00pm – 2:00pm PDT \nZoom meeting link is behind the MVCAC member login here.
URL:https://www.mvcac.org/event/lab-technologies-committee-2/2028-04-28/
LOCATION:Online
CATEGORIES:Committee Meeting
END:VEVENT
BEGIN:VEVENT
DTSTART;TZID=America/Los_Angeles:20280509T090000
DTEND;TZID=America/Los_Angeles:20280509T100000
DTSTAMP:20260421T172555
CREATED:20251209T191858Z
LAST-MODIFIED:20251230T161036Z
UID:10000521-1841475600-1841479200@www.mvcac.org
SUMMARY:Regulatory Affairs Committee Meeting
DESCRIPTION:Recurring monthly meetings on the second Tuesday of every month from 9:00am – 10:00am PDT\n\n\n\n\nZoom meeting link is behind the MVCAC member login here.
URL:https://www.mvcac.org/event/regulatory-affairs-committee-meeting-2/2028-05-09/
LOCATION:Online
CATEGORIES:Committee Meeting
END:VEVENT
END:VCALENDAR