BEGIN:VCALENDAR
VERSION:2.0
PRODID:-//MVCAC - ECPv6.15.20//NONSGML v1.0//EN
CALSCALE:GREGORIAN
METHOD:PUBLISH
X-WR-CALNAME:MVCAC
X-ORIGINAL-URL:https://www.mvcac.org
X-WR-CALDESC:Events for MVCAC
REFRESH-INTERVAL;VALUE=DURATION:PT1H
X-Robots-Tag:noindex
X-PUBLISHED-TTL:PT1H
BEGIN:VTIMEZONE
TZID:America/Los_Angeles
BEGIN:DAYLIGHT
TZOFFSETFROM:-0800
TZOFFSETTO:-0700
TZNAME:PDT
DTSTART:20240310T100000
END:DAYLIGHT
BEGIN:STANDARD
TZOFFSETFROM:-0700
TZOFFSETTO:-0800
TZNAME:PST
DTSTART:20241103T090000
END:STANDARD
BEGIN:DAYLIGHT
TZOFFSETFROM:-0800
TZOFFSETTO:-0700
TZNAME:PDT
DTSTART:20250309T100000
END:DAYLIGHT
BEGIN:STANDARD
TZOFFSETFROM:-0700
TZOFFSETTO:-0800
TZNAME:PST
DTSTART:20251102T090000
END:STANDARD
BEGIN:DAYLIGHT
TZOFFSETFROM:-0800
TZOFFSETTO:-0700
TZNAME:PDT
DTSTART:20260308T100000
END:DAYLIGHT
BEGIN:STANDARD
TZOFFSETFROM:-0700
TZOFFSETTO:-0800
TZNAME:PST
DTSTART:20261101T090000
END:STANDARD
END:VTIMEZONE
BEGIN:VEVENT
DTSTART;VALUE=DATE:20251202
DTEND;VALUE=DATE:20251205
DTSTAMP:20260420T075540
CREATED:20250527T174237Z
LAST-MODIFIED:20251203T000730Z
UID:10000424-1764633600-1764892799@www.mvcac.org
SUMMARY:Committee & Planning Meeting
DESCRIPTION:December 2nd – 4th – Visalia Marriott \nThe agenda for this meeting (which includes the Zoom links for hybrid meetings) is behind the member login here \nWho should attend – Committee members\, board members\, other members interested in mapping out what 2026 will look like for MVCAC. This meeting will including trainings\, committee meetings\, and strategy sessions\, along with a formal board meeting. \nFormat – This meeting will be held in a mixed format; strategy sessions will be in-person only due to their collaborative design. The orientation and committee meetings will be hybrid.  \n  \nHotel Booking Information: \n\nThe room block deadline for this event has passed.
URL:https://www.mvcac.org/event/committee-planning-meeting/
LOCATION:Visalia Marriott\, 300 S Court St\, Visalia\, CA\, 93291\, United States
CATEGORIES:Planning
END:VEVENT
END:VCALENDAR