BEGIN:VCALENDAR
VERSION:2.0
PRODID:-//MVCAC - ECPv6.15.20//NONSGML v1.0//EN
CALSCALE:GREGORIAN
METHOD:PUBLISH
X-WR-CALNAME:MVCAC
X-ORIGINAL-URL:https://www.mvcac.org
X-WR-CALDESC:Events for MVCAC
REFRESH-INTERVAL;VALUE=DURATION:PT1H
X-Robots-Tag:noindex
X-PUBLISHED-TTL:PT1H
BEGIN:VTIMEZONE
TZID:America/Los_Angeles
BEGIN:DAYLIGHT
TZOFFSETFROM:-0800
TZOFFSETTO:-0700
TZNAME:PDT
DTSTART:20270314T100000
END:DAYLIGHT
BEGIN:STANDARD
TZOFFSETFROM:-0700
TZOFFSETTO:-0800
TZNAME:PST
DTSTART:20271107T090000
END:STANDARD
BEGIN:DAYLIGHT
TZOFFSETFROM:-0800
TZOFFSETTO:-0700
TZNAME:PDT
DTSTART:20280312T100000
END:DAYLIGHT
BEGIN:STANDARD
TZOFFSETFROM:-0700
TZOFFSETTO:-0800
TZNAME:PST
DTSTART:20281105T090000
END:STANDARD
BEGIN:DAYLIGHT
TZOFFSETFROM:-0800
TZOFFSETTO:-0700
TZNAME:PDT
DTSTART:20290311T100000
END:DAYLIGHT
BEGIN:STANDARD
TZOFFSETFROM:-0700
TZOFFSETTO:-0800
TZNAME:PST
DTSTART:20291104T090000
END:STANDARD
END:VTIMEZONE
BEGIN:VEVENT
DTSTART;TZID=America/Los_Angeles:20280217T133000
DTEND;TZID=America/Los_Angeles:20280217T143000
DTSTAMP:20260421T142228
CREATED:20251209T192101Z
LAST-MODIFIED:20251230T161115Z
UID:10000578-1834407000-1834410600@www.mvcac.org
SUMMARY:IVM Committee Meeting
DESCRIPTION:Recurring monthly meetings on the  3rd Thursday of the month at 1:30pm PDT\n\n\n\n\nZoom meeting link is behind the MVCAC member login here.
URL:https://www.mvcac.org/event/ivm-committee-meeting-2/2028-02-17/
LOCATION:Online
CATEGORIES:Committee Meeting
END:VEVENT
BEGIN:VEVENT
DTSTART;TZID=America/Los_Angeles:20280225T130000
DTEND;TZID=America/Los_Angeles:20280225T140000
DTSTAMP:20260421T142228
CREATED:20251230T160945Z
LAST-MODIFIED:20251230T160945Z
UID:10000459-1835096400-1835100000@www.mvcac.org
SUMMARY:Lab Technologies Committee
DESCRIPTION:Recurring monthly meetings on the last Friday of every month from 1:00pm – 2:00pm PDT \nZoom meeting link is behind the MVCAC member login here.
URL:https://www.mvcac.org/event/lab-technologies-committee-2/2028-02-25/
LOCATION:Online
CATEGORIES:Committee Meeting
END:VEVENT
BEGIN:VEVENT
DTSTART;TZID=America/Los_Angeles:20280308T130000
DTEND;TZID=America/Los_Angeles:20280308T140000
DTSTAMP:20260421T142228
CREATED:20260420T200328Z
LAST-MODIFIED:20260420T200328Z
UID:10000655-1836133200-1836136800@www.mvcac.org
SUMMARY:Public Relations Committee
DESCRIPTION:Recurring monthly meetings on the second Wednesday of every month from 1:00pm – 2:00pm PDT \nZoom meeting link is behind the MVCAC member login here.
URL:https://www.mvcac.org/event/public-relations-committee/2028-03-08/
LOCATION:Online
CATEGORIES:Committee Meeting
END:VEVENT
BEGIN:VEVENT
DTSTART;TZID=America/Los_Angeles:20280314T090000
DTEND;TZID=America/Los_Angeles:20280314T100000
DTSTAMP:20260421T142228
CREATED:20251209T191858Z
LAST-MODIFIED:20251230T161036Z
UID:10000519-1836637200-1836640800@www.mvcac.org
SUMMARY:Regulatory Affairs Committee Meeting
DESCRIPTION:Recurring monthly meetings on the second Tuesday of every month from 9:00am – 10:00am PDT\n\n\n\n\nZoom meeting link is behind the MVCAC member login here.
URL:https://www.mvcac.org/event/regulatory-affairs-committee-meeting-2/2028-03-14/
LOCATION:Online
CATEGORIES:Committee Meeting
END:VEVENT
BEGIN:VEVENT
DTSTART;TZID=America/Los_Angeles:20280316T133000
DTEND;TZID=America/Los_Angeles:20280316T143000
DTSTAMP:20260421T142228
CREATED:20251209T192101Z
LAST-MODIFIED:20251230T161115Z
UID:10000579-1836826200-1836829800@www.mvcac.org
SUMMARY:IVM Committee Meeting
DESCRIPTION:Recurring monthly meetings on the  3rd Thursday of the month at 1:30pm PDT\n\n\n\n\nZoom meeting link is behind the MVCAC member login here.
URL:https://www.mvcac.org/event/ivm-committee-meeting-2/2028-03-16/
LOCATION:Online
CATEGORIES:Committee Meeting
END:VEVENT
BEGIN:VEVENT
DTSTART;TZID=America/Los_Angeles:20280331T130000
DTEND;TZID=America/Los_Angeles:20280331T140000
DTSTAMP:20260421T142228
CREATED:20251230T160945Z
LAST-MODIFIED:20251230T160945Z
UID:10000460-1838120400-1838124000@www.mvcac.org
SUMMARY:Lab Technologies Committee
DESCRIPTION:Recurring monthly meetings on the last Friday of every month from 1:00pm – 2:00pm PDT \nZoom meeting link is behind the MVCAC member login here.
URL:https://www.mvcac.org/event/lab-technologies-committee-2/2028-03-31/
LOCATION:Online
CATEGORIES:Committee Meeting
END:VEVENT
BEGIN:VEVENT
DTSTART;TZID=America/Los_Angeles:20280411T090000
DTEND;TZID=America/Los_Angeles:20280411T100000
DTSTAMP:20260421T142228
CREATED:20251209T191858Z
LAST-MODIFIED:20251230T161036Z
UID:10000520-1839056400-1839060000@www.mvcac.org
SUMMARY:Regulatory Affairs Committee Meeting
DESCRIPTION:Recurring monthly meetings on the second Tuesday of every month from 9:00am – 10:00am PDT\n\n\n\n\nZoom meeting link is behind the MVCAC member login here.
URL:https://www.mvcac.org/event/regulatory-affairs-committee-meeting-2/2028-04-11/
LOCATION:Online
CATEGORIES:Committee Meeting
END:VEVENT
BEGIN:VEVENT
DTSTART;TZID=America/Los_Angeles:20280412T130000
DTEND;TZID=America/Los_Angeles:20280412T140000
DTSTAMP:20260421T142228
CREATED:20260420T200328Z
LAST-MODIFIED:20260420T200328Z
UID:10000656-1839157200-1839160800@www.mvcac.org
SUMMARY:Public Relations Committee
DESCRIPTION:Recurring monthly meetings on the second Wednesday of every month from 1:00pm – 2:00pm PDT \nZoom meeting link is behind the MVCAC member login here.
URL:https://www.mvcac.org/event/public-relations-committee/2028-04-12/
LOCATION:Online
CATEGORIES:Committee Meeting
END:VEVENT
BEGIN:VEVENT
DTSTART;TZID=America/Los_Angeles:20280420T133000
DTEND;TZID=America/Los_Angeles:20280420T143000
DTSTAMP:20260421T142228
CREATED:20251209T192101Z
LAST-MODIFIED:20251230T161115Z
UID:10000580-1839850200-1839853800@www.mvcac.org
SUMMARY:IVM Committee Meeting
DESCRIPTION:Recurring monthly meetings on the  3rd Thursday of the month at 1:30pm PDT\n\n\n\n\nZoom meeting link is behind the MVCAC member login here.
URL:https://www.mvcac.org/event/ivm-committee-meeting-2/2028-04-20/
LOCATION:Online
CATEGORIES:Committee Meeting
END:VEVENT
BEGIN:VEVENT
DTSTART;TZID=America/Los_Angeles:20280428T130000
DTEND;TZID=America/Los_Angeles:20280428T140000
DTSTAMP:20260421T142228
CREATED:20251230T160945Z
LAST-MODIFIED:20251230T160945Z
UID:10000461-1840539600-1840543200@www.mvcac.org
SUMMARY:Lab Technologies Committee
DESCRIPTION:Recurring monthly meetings on the last Friday of every month from 1:00pm – 2:00pm PDT \nZoom meeting link is behind the MVCAC member login here.
URL:https://www.mvcac.org/event/lab-technologies-committee-2/2028-04-28/
LOCATION:Online
CATEGORIES:Committee Meeting
END:VEVENT
BEGIN:VEVENT
DTSTART;TZID=America/Los_Angeles:20280509T090000
DTEND;TZID=America/Los_Angeles:20280509T100000
DTSTAMP:20260421T142228
CREATED:20251209T191858Z
LAST-MODIFIED:20251230T161036Z
UID:10000521-1841475600-1841479200@www.mvcac.org
SUMMARY:Regulatory Affairs Committee Meeting
DESCRIPTION:Recurring monthly meetings on the second Tuesday of every month from 9:00am – 10:00am PDT\n\n\n\n\nZoom meeting link is behind the MVCAC member login here.
URL:https://www.mvcac.org/event/regulatory-affairs-committee-meeting-2/2028-05-09/
LOCATION:Online
CATEGORIES:Committee Meeting
END:VEVENT
BEGIN:VEVENT
DTSTART;TZID=America/Los_Angeles:20280510T130000
DTEND;TZID=America/Los_Angeles:20280510T140000
DTSTAMP:20260421T142228
CREATED:20260420T200328Z
LAST-MODIFIED:20260420T200328Z
UID:10000657-1841576400-1841580000@www.mvcac.org
SUMMARY:Public Relations Committee
DESCRIPTION:Recurring monthly meetings on the second Wednesday of every month from 1:00pm – 2:00pm PDT \nZoom meeting link is behind the MVCAC member login here.
URL:https://www.mvcac.org/event/public-relations-committee/2028-05-10/
LOCATION:Online
CATEGORIES:Committee Meeting
END:VEVENT
BEGIN:VEVENT
DTSTART;TZID=America/Los_Angeles:20280518T133000
DTEND;TZID=America/Los_Angeles:20280518T143000
DTSTAMP:20260421T142228
CREATED:20251209T192101Z
LAST-MODIFIED:20251230T161115Z
UID:10000581-1842269400-1842273000@www.mvcac.org
SUMMARY:IVM Committee Meeting
DESCRIPTION:Recurring monthly meetings on the  3rd Thursday of the month at 1:30pm PDT\n\n\n\n\nZoom meeting link is behind the MVCAC member login here.
URL:https://www.mvcac.org/event/ivm-committee-meeting-2/2028-05-18/
LOCATION:Online
CATEGORIES:Committee Meeting
END:VEVENT
BEGIN:VEVENT
DTSTART;TZID=America/Los_Angeles:20280526T130000
DTEND;TZID=America/Los_Angeles:20280526T140000
DTSTAMP:20260421T142228
CREATED:20251230T160945Z
LAST-MODIFIED:20251230T160945Z
UID:10000462-1842958800-1842962400@www.mvcac.org
SUMMARY:Lab Technologies Committee
DESCRIPTION:Recurring monthly meetings on the last Friday of every month from 1:00pm – 2:00pm PDT \nZoom meeting link is behind the MVCAC member login here.
URL:https://www.mvcac.org/event/lab-technologies-committee-2/2028-05-26/
LOCATION:Online
CATEGORIES:Committee Meeting
END:VEVENT
BEGIN:VEVENT
DTSTART;TZID=America/Los_Angeles:20280613T090000
DTEND;TZID=America/Los_Angeles:20280613T100000
DTSTAMP:20260421T142228
CREATED:20251209T191858Z
LAST-MODIFIED:20251230T161036Z
UID:10000522-1844499600-1844503200@www.mvcac.org
SUMMARY:Regulatory Affairs Committee Meeting
DESCRIPTION:Recurring monthly meetings on the second Tuesday of every month from 9:00am – 10:00am PDT\n\n\n\n\nZoom meeting link is behind the MVCAC member login here.
URL:https://www.mvcac.org/event/regulatory-affairs-committee-meeting-2/2028-06-13/
LOCATION:Online
CATEGORIES:Committee Meeting
END:VEVENT
BEGIN:VEVENT
DTSTART;TZID=America/Los_Angeles:20280614T130000
DTEND;TZID=America/Los_Angeles:20280614T140000
DTSTAMP:20260421T142228
CREATED:20260420T200328Z
LAST-MODIFIED:20260420T200328Z
UID:10000658-1844600400-1844604000@www.mvcac.org
SUMMARY:Public Relations Committee
DESCRIPTION:Recurring monthly meetings on the second Wednesday of every month from 1:00pm – 2:00pm PDT \nZoom meeting link is behind the MVCAC member login here.
URL:https://www.mvcac.org/event/public-relations-committee/2028-06-14/
LOCATION:Online
CATEGORIES:Committee Meeting
END:VEVENT
BEGIN:VEVENT
DTSTART;TZID=America/Los_Angeles:20280615T133000
DTEND;TZID=America/Los_Angeles:20280615T143000
DTSTAMP:20260421T142228
CREATED:20251209T192101Z
LAST-MODIFIED:20251230T161115Z
UID:10000582-1844688600-1844692200@www.mvcac.org
SUMMARY:IVM Committee Meeting
DESCRIPTION:Recurring monthly meetings on the  3rd Thursday of the month at 1:30pm PDT\n\n\n\n\nZoom meeting link is behind the MVCAC member login here.
URL:https://www.mvcac.org/event/ivm-committee-meeting-2/2028-06-15/
LOCATION:Online
CATEGORIES:Committee Meeting
END:VEVENT
BEGIN:VEVENT
DTSTART;TZID=America/Los_Angeles:20280630T130000
DTEND;TZID=America/Los_Angeles:20280630T140000
DTSTAMP:20260421T142228
CREATED:20251230T160945Z
LAST-MODIFIED:20251230T160945Z
UID:10000463-1845982800-1845986400@www.mvcac.org
SUMMARY:Lab Technologies Committee
DESCRIPTION:Recurring monthly meetings on the last Friday of every month from 1:00pm – 2:00pm PDT \nZoom meeting link is behind the MVCAC member login here.
URL:https://www.mvcac.org/event/lab-technologies-committee-2/2028-06-30/
LOCATION:Online
CATEGORIES:Committee Meeting
END:VEVENT
BEGIN:VEVENT
DTSTART;TZID=America/Los_Angeles:20280711T090000
DTEND;TZID=America/Los_Angeles:20280711T100000
DTSTAMP:20260421T142228
CREATED:20251209T191858Z
LAST-MODIFIED:20251230T161036Z
UID:10000523-1846918800-1846922400@www.mvcac.org
SUMMARY:Regulatory Affairs Committee Meeting
DESCRIPTION:Recurring monthly meetings on the second Tuesday of every month from 9:00am – 10:00am PDT\n\n\n\n\nZoom meeting link is behind the MVCAC member login here.
URL:https://www.mvcac.org/event/regulatory-affairs-committee-meeting-2/2028-07-11/
LOCATION:Online
CATEGORIES:Committee Meeting
END:VEVENT
BEGIN:VEVENT
DTSTART;TZID=America/Los_Angeles:20280712T130000
DTEND;TZID=America/Los_Angeles:20280712T140000
DTSTAMP:20260421T142228
CREATED:20260420T200328Z
LAST-MODIFIED:20260420T200328Z
UID:10000659-1847019600-1847023200@www.mvcac.org
SUMMARY:Public Relations Committee
DESCRIPTION:Recurring monthly meetings on the second Wednesday of every month from 1:00pm – 2:00pm PDT \nZoom meeting link is behind the MVCAC member login here.
URL:https://www.mvcac.org/event/public-relations-committee/2028-07-12/
LOCATION:Online
CATEGORIES:Committee Meeting
END:VEVENT
BEGIN:VEVENT
DTSTART;TZID=America/Los_Angeles:20280720T133000
DTEND;TZID=America/Los_Angeles:20280720T143000
DTSTAMP:20260421T142228
CREATED:20251209T192101Z
LAST-MODIFIED:20251230T161115Z
UID:10000583-1847712600-1847716200@www.mvcac.org
SUMMARY:IVM Committee Meeting
DESCRIPTION:Recurring monthly meetings on the  3rd Thursday of the month at 1:30pm PDT\n\n\n\n\nZoom meeting link is behind the MVCAC member login here.
URL:https://www.mvcac.org/event/ivm-committee-meeting-2/2028-07-20/
LOCATION:Online
CATEGORIES:Committee Meeting
END:VEVENT
BEGIN:VEVENT
DTSTART;TZID=America/Los_Angeles:20280728T130000
DTEND;TZID=America/Los_Angeles:20280728T140000
DTSTAMP:20260421T142228
CREATED:20251230T160945Z
LAST-MODIFIED:20251230T160945Z
UID:10000464-1848402000-1848405600@www.mvcac.org
SUMMARY:Lab Technologies Committee
DESCRIPTION:Recurring monthly meetings on the last Friday of every month from 1:00pm – 2:00pm PDT \nZoom meeting link is behind the MVCAC member login here.
URL:https://www.mvcac.org/event/lab-technologies-committee-2/2028-07-28/
LOCATION:Online
CATEGORIES:Committee Meeting
END:VEVENT
BEGIN:VEVENT
DTSTART;TZID=America/Los_Angeles:20280808T090000
DTEND;TZID=America/Los_Angeles:20280808T100000
DTSTAMP:20260421T142228
CREATED:20251209T191858Z
LAST-MODIFIED:20251230T161036Z
UID:10000524-1849338000-1849341600@www.mvcac.org
SUMMARY:Regulatory Affairs Committee Meeting
DESCRIPTION:Recurring monthly meetings on the second Tuesday of every month from 9:00am – 10:00am PDT\n\n\n\n\nZoom meeting link is behind the MVCAC member login here.
URL:https://www.mvcac.org/event/regulatory-affairs-committee-meeting-2/2028-08-08/
LOCATION:Online
CATEGORIES:Committee Meeting
END:VEVENT
BEGIN:VEVENT
DTSTART;TZID=America/Los_Angeles:20280809T130000
DTEND;TZID=America/Los_Angeles:20280809T140000
DTSTAMP:20260421T142228
CREATED:20260420T200328Z
LAST-MODIFIED:20260420T200328Z
UID:10000660-1849438800-1849442400@www.mvcac.org
SUMMARY:Public Relations Committee
DESCRIPTION:Recurring monthly meetings on the second Wednesday of every month from 1:00pm – 2:00pm PDT \nZoom meeting link is behind the MVCAC member login here.
URL:https://www.mvcac.org/event/public-relations-committee/2028-08-09/
LOCATION:Online
CATEGORIES:Committee Meeting
END:VEVENT
BEGIN:VEVENT
DTSTART;TZID=America/Los_Angeles:20280817T133000
DTEND;TZID=America/Los_Angeles:20280817T143000
DTSTAMP:20260421T142228
CREATED:20251209T192101Z
LAST-MODIFIED:20251230T161115Z
UID:10000584-1850131800-1850135400@www.mvcac.org
SUMMARY:IVM Committee Meeting
DESCRIPTION:Recurring monthly meetings on the  3rd Thursday of the month at 1:30pm PDT\n\n\n\n\nZoom meeting link is behind the MVCAC member login here.
URL:https://www.mvcac.org/event/ivm-committee-meeting-2/2028-08-17/
LOCATION:Online
CATEGORIES:Committee Meeting
END:VEVENT
BEGIN:VEVENT
DTSTART;TZID=America/Los_Angeles:20280825T130000
DTEND;TZID=America/Los_Angeles:20280825T140000
DTSTAMP:20260421T142228
CREATED:20251230T160945Z
LAST-MODIFIED:20251230T160945Z
UID:10000465-1850821200-1850824800@www.mvcac.org
SUMMARY:Lab Technologies Committee
DESCRIPTION:Recurring monthly meetings on the last Friday of every month from 1:00pm – 2:00pm PDT \nZoom meeting link is behind the MVCAC member login here.
URL:https://www.mvcac.org/event/lab-technologies-committee-2/2028-08-25/
LOCATION:Online
CATEGORIES:Committee Meeting
END:VEVENT
BEGIN:VEVENT
DTSTART;TZID=America/Los_Angeles:20280912T090000
DTEND;TZID=America/Los_Angeles:20280912T100000
DTSTAMP:20260421T142228
CREATED:20251209T191858Z
LAST-MODIFIED:20251230T161036Z
UID:10000525-1852362000-1852365600@www.mvcac.org
SUMMARY:Regulatory Affairs Committee Meeting
DESCRIPTION:Recurring monthly meetings on the second Tuesday of every month from 9:00am – 10:00am PDT\n\n\n\n\nZoom meeting link is behind the MVCAC member login here.
URL:https://www.mvcac.org/event/regulatory-affairs-committee-meeting-2/2028-09-12/
LOCATION:Online
CATEGORIES:Committee Meeting
END:VEVENT
BEGIN:VEVENT
DTSTART;TZID=America/Los_Angeles:20280913T130000
DTEND;TZID=America/Los_Angeles:20280913T140000
DTSTAMP:20260421T142228
CREATED:20260420T200328Z
LAST-MODIFIED:20260420T200328Z
UID:10000661-1852462800-1852466400@www.mvcac.org
SUMMARY:Public Relations Committee
DESCRIPTION:Recurring monthly meetings on the second Wednesday of every month from 1:00pm – 2:00pm PDT \nZoom meeting link is behind the MVCAC member login here.
URL:https://www.mvcac.org/event/public-relations-committee/2028-09-13/
LOCATION:Online
CATEGORIES:Committee Meeting
END:VEVENT
BEGIN:VEVENT
DTSTART;TZID=America/Los_Angeles:20280921T133000
DTEND;TZID=America/Los_Angeles:20280921T143000
DTSTAMP:20260421T142228
CREATED:20251209T192101Z
LAST-MODIFIED:20251230T161115Z
UID:10000585-1853155800-1853159400@www.mvcac.org
SUMMARY:IVM Committee Meeting
DESCRIPTION:Recurring monthly meetings on the  3rd Thursday of the month at 1:30pm PDT\n\n\n\n\nZoom meeting link is behind the MVCAC member login here.
URL:https://www.mvcac.org/event/ivm-committee-meeting-2/2028-09-21/
LOCATION:Online
CATEGORIES:Committee Meeting
END:VEVENT
BEGIN:VEVENT
DTSTART;TZID=America/Los_Angeles:20280929T130000
DTEND;TZID=America/Los_Angeles:20280929T140000
DTSTAMP:20260421T142228
CREATED:20251230T160945Z
LAST-MODIFIED:20251230T160945Z
UID:10000466-1853845200-1853848800@www.mvcac.org
SUMMARY:Lab Technologies Committee
DESCRIPTION:Recurring monthly meetings on the last Friday of every month from 1:00pm – 2:00pm PDT \nZoom meeting link is behind the MVCAC member login here.
URL:https://www.mvcac.org/event/lab-technologies-committee-2/2028-09-29/
LOCATION:Online
CATEGORIES:Committee Meeting
END:VEVENT
END:VCALENDAR