BEGIN:VCALENDAR
VERSION:2.0
PRODID:-//MVCAC - ECPv6.15.20//NONSGML v1.0//EN
CALSCALE:GREGORIAN
METHOD:PUBLISH
X-ORIGINAL-URL:https://www.mvcac.org
X-WR-CALDESC:Events for MVCAC
REFRESH-INTERVAL;VALUE=DURATION:PT1H
X-Robots-Tag:noindex
X-PUBLISHED-TTL:PT1H
BEGIN:VTIMEZONE
TZID:America/Los_Angeles
BEGIN:DAYLIGHT
TZOFFSETFROM:-0800
TZOFFSETTO:-0700
TZNAME:PDT
DTSTART:20260308T100000
END:DAYLIGHT
BEGIN:STANDARD
TZOFFSETFROM:-0700
TZOFFSETTO:-0800
TZNAME:PST
DTSTART:20261101T090000
END:STANDARD
BEGIN:DAYLIGHT
TZOFFSETFROM:-0800
TZOFFSETTO:-0700
TZNAME:PDT
DTSTART:20270314T100000
END:DAYLIGHT
BEGIN:STANDARD
TZOFFSETFROM:-0700
TZOFFSETTO:-0800
TZNAME:PST
DTSTART:20271107T090000
END:STANDARD
BEGIN:DAYLIGHT
TZOFFSETFROM:-0800
TZOFFSETTO:-0700
TZNAME:PDT
DTSTART:20280312T100000
END:DAYLIGHT
BEGIN:STANDARD
TZOFFSETFROM:-0700
TZOFFSETTO:-0800
TZNAME:PST
DTSTART:20281105T090000
END:STANDARD
BEGIN:DAYLIGHT
TZOFFSETFROM:-0800
TZOFFSETTO:-0700
TZNAME:PDT
DTSTART:20290311T100000
END:DAYLIGHT
BEGIN:STANDARD
TZOFFSETFROM:-0700
TZOFFSETTO:-0800
TZNAME:PST
DTSTART:20291104T090000
END:STANDARD
END:VTIMEZONE
BEGIN:VEVENT
DTSTART;TZID=America/Los_Angeles:20270528T130000
DTEND;TZID=America/Los_Angeles:20270528T140000
DTSTAMP:20260421T175936
CREATED:20251230T160945Z
LAST-MODIFIED:20251230T160945Z
UID:10000450-1811509200-1811512800@www.mvcac.org
SUMMARY:Lab Technologies Committee
DESCRIPTION:Recurring monthly meetings on the last Friday of every month from 1:00pm – 2:00pm PDT \nZoom meeting link is behind the MVCAC member login here.
URL:https://www.mvcac.org/event/lab-technologies-committee-2/2027-05-28/
LOCATION:Online
CATEGORIES:Committee Meeting
END:VEVENT
BEGIN:VEVENT
DTSTART;TZID=America/Los_Angeles:20270608T090000
DTEND;TZID=America/Los_Angeles:20270608T100000
DTSTAMP:20260421T175936
CREATED:20251209T191858Z
LAST-MODIFIED:20251230T161036Z
UID:10000510-1812445200-1812448800@www.mvcac.org
SUMMARY:Regulatory Affairs Committee Meeting
DESCRIPTION:Recurring monthly meetings on the second Tuesday of every month from 9:00am – 10:00am PDT\n\n\n\n\nZoom meeting link is behind the MVCAC member login here.
URL:https://www.mvcac.org/event/regulatory-affairs-committee-meeting-2/2027-06-08/
LOCATION:Online
CATEGORIES:Committee Meeting
END:VEVENT
BEGIN:VEVENT
DTSTART;TZID=America/Los_Angeles:20270609T130000
DTEND;TZID=America/Los_Angeles:20270609T140000
DTSTAMP:20260421T175936
CREATED:20260420T200328Z
LAST-MODIFIED:20260420T200328Z
UID:10000646-1812546000-1812549600@www.mvcac.org
SUMMARY:Public Relations Committee
DESCRIPTION:Recurring monthly meetings on the second Wednesday of every month from 1:00pm – 2:00pm PDT \nZoom meeting link is behind the MVCAC member login here.
URL:https://www.mvcac.org/event/public-relations-committee/2027-06-09/
LOCATION:Online
CATEGORIES:Committee Meeting
END:VEVENT
BEGIN:VEVENT
DTSTART;TZID=America/Los_Angeles:20270617T133000
DTEND;TZID=America/Los_Angeles:20270617T143000
DTSTAMP:20260421T175936
CREATED:20251209T192101Z
LAST-MODIFIED:20251230T161115Z
UID:10000570-1813239000-1813242600@www.mvcac.org
SUMMARY:IVM Committee Meeting
DESCRIPTION:Recurring monthly meetings on the  3rd Thursday of the month at 1:30pm PDT\n\n\n\n\nZoom meeting link is behind the MVCAC member login here.
URL:https://www.mvcac.org/event/ivm-committee-meeting-2/2027-06-17/
LOCATION:Online
CATEGORIES:Committee Meeting
END:VEVENT
BEGIN:VEVENT
DTSTART;TZID=America/Los_Angeles:20270625T130000
DTEND;TZID=America/Los_Angeles:20270625T140000
DTSTAMP:20260421T175936
CREATED:20251230T160945Z
LAST-MODIFIED:20251230T160945Z
UID:10000451-1813928400-1813932000@www.mvcac.org
SUMMARY:Lab Technologies Committee
DESCRIPTION:Recurring monthly meetings on the last Friday of every month from 1:00pm – 2:00pm PDT \nZoom meeting link is behind the MVCAC member login here.
URL:https://www.mvcac.org/event/lab-technologies-committee-2/2027-06-25/
LOCATION:Online
CATEGORIES:Committee Meeting
END:VEVENT
BEGIN:VEVENT
DTSTART;TZID=America/Los_Angeles:20270713T090000
DTEND;TZID=America/Los_Angeles:20270713T100000
DTSTAMP:20260421T175936
CREATED:20251209T191858Z
LAST-MODIFIED:20251230T161036Z
UID:10000511-1815469200-1815472800@www.mvcac.org
SUMMARY:Regulatory Affairs Committee Meeting
DESCRIPTION:Recurring monthly meetings on the second Tuesday of every month from 9:00am – 10:00am PDT\n\n\n\n\nZoom meeting link is behind the MVCAC member login here.
URL:https://www.mvcac.org/event/regulatory-affairs-committee-meeting-2/2027-07-13/
LOCATION:Online
CATEGORIES:Committee Meeting
END:VEVENT
BEGIN:VEVENT
DTSTART;TZID=America/Los_Angeles:20270714T130000
DTEND;TZID=America/Los_Angeles:20270714T140000
DTSTAMP:20260421T175936
CREATED:20260420T200328Z
LAST-MODIFIED:20260420T200328Z
UID:10000647-1815570000-1815573600@www.mvcac.org
SUMMARY:Public Relations Committee
DESCRIPTION:Recurring monthly meetings on the second Wednesday of every month from 1:00pm – 2:00pm PDT \nZoom meeting link is behind the MVCAC member login here.
URL:https://www.mvcac.org/event/public-relations-committee/2027-07-14/
LOCATION:Online
CATEGORIES:Committee Meeting
END:VEVENT
BEGIN:VEVENT
DTSTART;TZID=America/Los_Angeles:20270715T133000
DTEND;TZID=America/Los_Angeles:20270715T143000
DTSTAMP:20260421T175936
CREATED:20251209T192101Z
LAST-MODIFIED:20251230T161115Z
UID:10000571-1815658200-1815661800@www.mvcac.org
SUMMARY:IVM Committee Meeting
DESCRIPTION:Recurring monthly meetings on the  3rd Thursday of the month at 1:30pm PDT\n\n\n\n\nZoom meeting link is behind the MVCAC member login here.
URL:https://www.mvcac.org/event/ivm-committee-meeting-2/2027-07-15/
LOCATION:Online
CATEGORIES:Committee Meeting
END:VEVENT
BEGIN:VEVENT
DTSTART;TZID=America/Los_Angeles:20270730T130000
DTEND;TZID=America/Los_Angeles:20270730T140000
DTSTAMP:20260421T175936
CREATED:20251230T160945Z
LAST-MODIFIED:20251230T160945Z
UID:10000452-1816952400-1816956000@www.mvcac.org
SUMMARY:Lab Technologies Committee
DESCRIPTION:Recurring monthly meetings on the last Friday of every month from 1:00pm – 2:00pm PDT \nZoom meeting link is behind the MVCAC member login here.
URL:https://www.mvcac.org/event/lab-technologies-committee-2/2027-07-30/
LOCATION:Online
CATEGORIES:Committee Meeting
END:VEVENT
BEGIN:VEVENT
DTSTART;TZID=America/Los_Angeles:20270810T090000
DTEND;TZID=America/Los_Angeles:20270810T100000
DTSTAMP:20260421T175936
CREATED:20251209T191858Z
LAST-MODIFIED:20251230T161036Z
UID:10000512-1817888400-1817892000@www.mvcac.org
SUMMARY:Regulatory Affairs Committee Meeting
DESCRIPTION:Recurring monthly meetings on the second Tuesday of every month from 9:00am – 10:00am PDT\n\n\n\n\nZoom meeting link is behind the MVCAC member login here.
URL:https://www.mvcac.org/event/regulatory-affairs-committee-meeting-2/2027-08-10/
LOCATION:Online
CATEGORIES:Committee Meeting
END:VEVENT
BEGIN:VEVENT
DTSTART;TZID=America/Los_Angeles:20270811T130000
DTEND;TZID=America/Los_Angeles:20270811T140000
DTSTAMP:20260421T175936
CREATED:20260420T200328Z
LAST-MODIFIED:20260420T200328Z
UID:10000648-1817989200-1817992800@www.mvcac.org
SUMMARY:Public Relations Committee
DESCRIPTION:Recurring monthly meetings on the second Wednesday of every month from 1:00pm – 2:00pm PDT \nZoom meeting link is behind the MVCAC member login here.
URL:https://www.mvcac.org/event/public-relations-committee/2027-08-11/
LOCATION:Online
CATEGORIES:Committee Meeting
END:VEVENT
BEGIN:VEVENT
DTSTART;TZID=America/Los_Angeles:20270819T133000
DTEND;TZID=America/Los_Angeles:20270819T143000
DTSTAMP:20260421T175936
CREATED:20251209T192101Z
LAST-MODIFIED:20251230T161115Z
UID:10000572-1818682200-1818685800@www.mvcac.org
SUMMARY:IVM Committee Meeting
DESCRIPTION:Recurring monthly meetings on the  3rd Thursday of the month at 1:30pm PDT\n\n\n\n\nZoom meeting link is behind the MVCAC member login here.
URL:https://www.mvcac.org/event/ivm-committee-meeting-2/2027-08-19/
LOCATION:Online
CATEGORIES:Committee Meeting
END:VEVENT
BEGIN:VEVENT
DTSTART;TZID=America/Los_Angeles:20270827T130000
DTEND;TZID=America/Los_Angeles:20270827T140000
DTSTAMP:20260421T175936
CREATED:20251230T160945Z
LAST-MODIFIED:20251230T160945Z
UID:10000453-1819371600-1819375200@www.mvcac.org
SUMMARY:Lab Technologies Committee
DESCRIPTION:Recurring monthly meetings on the last Friday of every month from 1:00pm – 2:00pm PDT \nZoom meeting link is behind the MVCAC member login here.
URL:https://www.mvcac.org/event/lab-technologies-committee-2/2027-08-27/
LOCATION:Online
CATEGORIES:Committee Meeting
END:VEVENT
BEGIN:VEVENT
DTSTART;TZID=America/Los_Angeles:20270908T130000
DTEND;TZID=America/Los_Angeles:20270908T140000
DTSTAMP:20260421T175936
CREATED:20260420T200328Z
LAST-MODIFIED:20260420T200328Z
UID:10000649-1820408400-1820412000@www.mvcac.org
SUMMARY:Public Relations Committee
DESCRIPTION:Recurring monthly meetings on the second Wednesday of every month from 1:00pm – 2:00pm PDT \nZoom meeting link is behind the MVCAC member login here.
URL:https://www.mvcac.org/event/public-relations-committee/2027-09-08/
LOCATION:Online
CATEGORIES:Committee Meeting
END:VEVENT
BEGIN:VEVENT
DTSTART;TZID=America/Los_Angeles:20270914T090000
DTEND;TZID=America/Los_Angeles:20270914T100000
DTSTAMP:20260421T175936
CREATED:20251209T191858Z
LAST-MODIFIED:20251230T161036Z
UID:10000513-1820912400-1820916000@www.mvcac.org
SUMMARY:Regulatory Affairs Committee Meeting
DESCRIPTION:Recurring monthly meetings on the second Tuesday of every month from 9:00am – 10:00am PDT\n\n\n\n\nZoom meeting link is behind the MVCAC member login here.
URL:https://www.mvcac.org/event/regulatory-affairs-committee-meeting-2/2027-09-14/
LOCATION:Online
CATEGORIES:Committee Meeting
END:VEVENT
BEGIN:VEVENT
DTSTART;TZID=America/Los_Angeles:20270916T133000
DTEND;TZID=America/Los_Angeles:20270916T143000
DTSTAMP:20260421T175936
CREATED:20251209T192101Z
LAST-MODIFIED:20251230T161115Z
UID:10000573-1821101400-1821105000@www.mvcac.org
SUMMARY:IVM Committee Meeting
DESCRIPTION:Recurring monthly meetings on the  3rd Thursday of the month at 1:30pm PDT\n\n\n\n\nZoom meeting link is behind the MVCAC member login here.
URL:https://www.mvcac.org/event/ivm-committee-meeting-2/2027-09-16/
LOCATION:Online
CATEGORIES:Committee Meeting
END:VEVENT
BEGIN:VEVENT
DTSTART;TZID=America/Los_Angeles:20270924T130000
DTEND;TZID=America/Los_Angeles:20270924T140000
DTSTAMP:20260421T175936
CREATED:20251230T160945Z
LAST-MODIFIED:20251230T160945Z
UID:10000454-1821790800-1821794400@www.mvcac.org
SUMMARY:Lab Technologies Committee
DESCRIPTION:Recurring monthly meetings on the last Friday of every month from 1:00pm – 2:00pm PDT \nZoom meeting link is behind the MVCAC member login here.
URL:https://www.mvcac.org/event/lab-technologies-committee-2/2027-09-24/
LOCATION:Online
CATEGORIES:Committee Meeting
END:VEVENT
BEGIN:VEVENT
DTSTART;TZID=America/Los_Angeles:20271012T090000
DTEND;TZID=America/Los_Angeles:20271012T100000
DTSTAMP:20260421T175936
CREATED:20251209T191858Z
LAST-MODIFIED:20251230T161036Z
UID:10000514-1823331600-1823335200@www.mvcac.org
SUMMARY:Regulatory Affairs Committee Meeting
DESCRIPTION:Recurring monthly meetings on the second Tuesday of every month from 9:00am – 10:00am PDT\n\n\n\n\nZoom meeting link is behind the MVCAC member login here.
URL:https://www.mvcac.org/event/regulatory-affairs-committee-meeting-2/2027-10-12/
LOCATION:Online
CATEGORIES:Committee Meeting
END:VEVENT
BEGIN:VEVENT
DTSTART;TZID=America/Los_Angeles:20271013T130000
DTEND;TZID=America/Los_Angeles:20271013T140000
DTSTAMP:20260421T175936
CREATED:20260420T200328Z
LAST-MODIFIED:20260420T200328Z
UID:10000650-1823432400-1823436000@www.mvcac.org
SUMMARY:Public Relations Committee
DESCRIPTION:Recurring monthly meetings on the second Wednesday of every month from 1:00pm – 2:00pm PDT \nZoom meeting link is behind the MVCAC member login here.
URL:https://www.mvcac.org/event/public-relations-committee/2027-10-13/
LOCATION:Online
CATEGORIES:Committee Meeting
END:VEVENT
BEGIN:VEVENT
DTSTART;TZID=America/Los_Angeles:20271021T133000
DTEND;TZID=America/Los_Angeles:20271021T143000
DTSTAMP:20260421T175936
CREATED:20251209T192101Z
LAST-MODIFIED:20251230T161115Z
UID:10000574-1824125400-1824129000@www.mvcac.org
SUMMARY:IVM Committee Meeting
DESCRIPTION:Recurring monthly meetings on the  3rd Thursday of the month at 1:30pm PDT\n\n\n\n\nZoom meeting link is behind the MVCAC member login here.
URL:https://www.mvcac.org/event/ivm-committee-meeting-2/2027-10-21/
LOCATION:Online
CATEGORIES:Committee Meeting
END:VEVENT
BEGIN:VEVENT
DTSTART;TZID=America/Los_Angeles:20271029T130000
DTEND;TZID=America/Los_Angeles:20271029T140000
DTSTAMP:20260421T175936
CREATED:20251230T160945Z
LAST-MODIFIED:20251230T160945Z
UID:10000455-1824814800-1824818400@www.mvcac.org
SUMMARY:Lab Technologies Committee
DESCRIPTION:Recurring monthly meetings on the last Friday of every month from 1:00pm – 2:00pm PDT \nZoom meeting link is behind the MVCAC member login here.
URL:https://www.mvcac.org/event/lab-technologies-committee-2/2027-10-29/
LOCATION:Online
CATEGORIES:Committee Meeting
END:VEVENT
BEGIN:VEVENT
DTSTART;TZID=America/Los_Angeles:20271109T090000
DTEND;TZID=America/Los_Angeles:20271109T100000
DTSTAMP:20260421T175936
CREATED:20251209T191858Z
LAST-MODIFIED:20251230T161036Z
UID:10000515-1825750800-1825754400@www.mvcac.org
SUMMARY:Regulatory Affairs Committee Meeting
DESCRIPTION:Recurring monthly meetings on the second Tuesday of every month from 9:00am – 10:00am PDT\n\n\n\n\nZoom meeting link is behind the MVCAC member login here.
URL:https://www.mvcac.org/event/regulatory-affairs-committee-meeting-2/2027-11-09/
LOCATION:Online
CATEGORIES:Committee Meeting
END:VEVENT
BEGIN:VEVENT
DTSTART;TZID=America/Los_Angeles:20271110T130000
DTEND;TZID=America/Los_Angeles:20271110T140000
DTSTAMP:20260421T175936
CREATED:20260420T200328Z
LAST-MODIFIED:20260420T200328Z
UID:10000651-1825851600-1825855200@www.mvcac.org
SUMMARY:Public Relations Committee
DESCRIPTION:Recurring monthly meetings on the second Wednesday of every month from 1:00pm – 2:00pm PDT \nZoom meeting link is behind the MVCAC member login here.
URL:https://www.mvcac.org/event/public-relations-committee/2027-11-10/
LOCATION:Online
CATEGORIES:Committee Meeting
END:VEVENT
BEGIN:VEVENT
DTSTART;TZID=America/Los_Angeles:20271118T133000
DTEND;TZID=America/Los_Angeles:20271118T143000
DTSTAMP:20260421T175936
CREATED:20251209T192101Z
LAST-MODIFIED:20251230T161115Z
UID:10000575-1826544600-1826548200@www.mvcac.org
SUMMARY:IVM Committee Meeting
DESCRIPTION:Recurring monthly meetings on the  3rd Thursday of the month at 1:30pm PDT\n\n\n\n\nZoom meeting link is behind the MVCAC member login here.
URL:https://www.mvcac.org/event/ivm-committee-meeting-2/2027-11-18/
LOCATION:Online
CATEGORIES:Committee Meeting
END:VEVENT
BEGIN:VEVENT
DTSTART;TZID=America/Los_Angeles:20271126T130000
DTEND;TZID=America/Los_Angeles:20271126T140000
DTSTAMP:20260421T175936
CREATED:20251230T160945Z
LAST-MODIFIED:20251230T160945Z
UID:10000456-1827234000-1827237600@www.mvcac.org
SUMMARY:Lab Technologies Committee
DESCRIPTION:Recurring monthly meetings on the last Friday of every month from 1:00pm – 2:00pm PDT \nZoom meeting link is behind the MVCAC member login here.
URL:https://www.mvcac.org/event/lab-technologies-committee-2/2027-11-26/
LOCATION:Online
CATEGORIES:Committee Meeting
END:VEVENT
BEGIN:VEVENT
DTSTART;TZID=America/Los_Angeles:20271208T130000
DTEND;TZID=America/Los_Angeles:20271208T140000
DTSTAMP:20260421T175936
CREATED:20260420T200328Z
LAST-MODIFIED:20260420T200328Z
UID:10000652-1828270800-1828274400@www.mvcac.org
SUMMARY:Public Relations Committee
DESCRIPTION:Recurring monthly meetings on the second Wednesday of every month from 1:00pm – 2:00pm PDT \nZoom meeting link is behind the MVCAC member login here.
URL:https://www.mvcac.org/event/public-relations-committee/2027-12-08/
LOCATION:Online
CATEGORIES:Committee Meeting
END:VEVENT
BEGIN:VEVENT
DTSTART;TZID=America/Los_Angeles:20271214T090000
DTEND;TZID=America/Los_Angeles:20271214T100000
DTSTAMP:20260421T175936
CREATED:20251209T191858Z
LAST-MODIFIED:20251230T161036Z
UID:10000516-1828774800-1828778400@www.mvcac.org
SUMMARY:Regulatory Affairs Committee Meeting
DESCRIPTION:Recurring monthly meetings on the second Tuesday of every month from 9:00am – 10:00am PDT\n\n\n\n\nZoom meeting link is behind the MVCAC member login here.
URL:https://www.mvcac.org/event/regulatory-affairs-committee-meeting-2/2027-12-14/
LOCATION:Online
CATEGORIES:Committee Meeting
END:VEVENT
BEGIN:VEVENT
DTSTART;TZID=America/Los_Angeles:20271216T133000
DTEND;TZID=America/Los_Angeles:20271216T143000
DTSTAMP:20260421T175936
CREATED:20251209T192101Z
LAST-MODIFIED:20251230T161115Z
UID:10000576-1828963800-1828967400@www.mvcac.org
SUMMARY:IVM Committee Meeting
DESCRIPTION:Recurring monthly meetings on the  3rd Thursday of the month at 1:30pm PDT\n\n\n\n\nZoom meeting link is behind the MVCAC member login here.
URL:https://www.mvcac.org/event/ivm-committee-meeting-2/2027-12-16/
LOCATION:Online
CATEGORIES:Committee Meeting
END:VEVENT
BEGIN:VEVENT
DTSTART;TZID=America/Los_Angeles:20271231T130000
DTEND;TZID=America/Los_Angeles:20271231T140000
DTSTAMP:20260421T175936
CREATED:20251230T160945Z
LAST-MODIFIED:20251230T160945Z
UID:10000457-1830258000-1830261600@www.mvcac.org
SUMMARY:Lab Technologies Committee
DESCRIPTION:Recurring monthly meetings on the last Friday of every month from 1:00pm – 2:00pm PDT \nZoom meeting link is behind the MVCAC member login here.
URL:https://www.mvcac.org/event/lab-technologies-committee-2/2027-12-31/
LOCATION:Online
CATEGORIES:Committee Meeting
END:VEVENT
BEGIN:VEVENT
DTSTART;TZID=America/Los_Angeles:20280111T090000
DTEND;TZID=America/Los_Angeles:20280111T100000
DTSTAMP:20260421T175936
CREATED:20251209T191858Z
LAST-MODIFIED:20251230T161036Z
UID:10000517-1831194000-1831197600@www.mvcac.org
SUMMARY:Regulatory Affairs Committee Meeting
DESCRIPTION:Recurring monthly meetings on the second Tuesday of every month from 9:00am – 10:00am PDT\n\n\n\n\nZoom meeting link is behind the MVCAC member login here.
URL:https://www.mvcac.org/event/regulatory-affairs-committee-meeting-2/2028-01-11/
LOCATION:Online
CATEGORIES:Committee Meeting
END:VEVENT
END:VCALENDAR