BEGIN:VCALENDAR
VERSION:2.0
PRODID:-//MVCAC - ECPv6.15.20//NONSGML v1.0//EN
CALSCALE:GREGORIAN
METHOD:PUBLISH
X-ORIGINAL-URL:https://www.mvcac.org
X-WR-CALDESC:Events for MVCAC
REFRESH-INTERVAL;VALUE=DURATION:PT1H
X-Robots-Tag:noindex
X-PUBLISHED-TTL:PT1H
BEGIN:VTIMEZONE
TZID:America/Los_Angeles
BEGIN:DAYLIGHT
TZOFFSETFROM:-0800
TZOFFSETTO:-0700
TZNAME:PDT
DTSTART:20250309T100000
END:DAYLIGHT
BEGIN:STANDARD
TZOFFSETFROM:-0700
TZOFFSETTO:-0800
TZNAME:PST
DTSTART:20251102T090000
END:STANDARD
BEGIN:DAYLIGHT
TZOFFSETFROM:-0800
TZOFFSETTO:-0700
TZNAME:PDT
DTSTART:20260308T100000
END:DAYLIGHT
BEGIN:STANDARD
TZOFFSETFROM:-0700
TZOFFSETTO:-0800
TZNAME:PST
DTSTART:20261101T090000
END:STANDARD
BEGIN:DAYLIGHT
TZOFFSETFROM:-0800
TZOFFSETTO:-0700
TZNAME:PDT
DTSTART:20270314T100000
END:DAYLIGHT
BEGIN:STANDARD
TZOFFSETFROM:-0700
TZOFFSETTO:-0800
TZNAME:PST
DTSTART:20271107T090000
END:STANDARD
END:VTIMEZONE
BEGIN:VEVENT
DTSTART;TZID=America/Los_Angeles:20261110T090000
DTEND;TZID=America/Los_Angeles:20261110T100000
DTSTAMP:20260421T125509
CREATED:20251209T191858Z
LAST-MODIFIED:20251230T161036Z
UID:10000503-1794301200-1794304800@www.mvcac.org
SUMMARY:Regulatory Affairs Committee Meeting
DESCRIPTION:Recurring monthly meetings on the second Tuesday of every month from 9:00am – 10:00am PDT\n\n\n\n\nZoom meeting link is behind the MVCAC member login here.
URL:https://www.mvcac.org/event/regulatory-affairs-committee-meeting-2/2026-11-10/
LOCATION:Online
CATEGORIES:Committee Meeting
END:VEVENT
BEGIN:VEVENT
DTSTART;TZID=America/Los_Angeles:20261111T130000
DTEND;TZID=America/Los_Angeles:20261111T140000
DTSTAMP:20260421T125509
CREATED:20260420T200328Z
LAST-MODIFIED:20260420T200328Z
UID:10000639-1794402000-1794405600@www.mvcac.org
SUMMARY:Public Relations Committee
DESCRIPTION:Recurring monthly meetings on the second Wednesday of every month from 1:00pm – 2:00pm PDT \nZoom meeting link is behind the MVCAC member login here.
URL:https://www.mvcac.org/event/public-relations-committee/2026-11-11/
LOCATION:Online
CATEGORIES:Committee Meeting
END:VEVENT
BEGIN:VEVENT
DTSTART;TZID=America/Los_Angeles:20261119T133000
DTEND;TZID=America/Los_Angeles:20261119T143000
DTSTAMP:20260421T125509
CREATED:20251209T192101Z
LAST-MODIFIED:20251230T161115Z
UID:10000563-1795095000-1795098600@www.mvcac.org
SUMMARY:IVM Committee Meeting
DESCRIPTION:Recurring monthly meetings on the  3rd Thursday of the month at 1:30pm PDT\n\n\n\n\nZoom meeting link is behind the MVCAC member login here.
URL:https://www.mvcac.org/event/ivm-committee-meeting-2/2026-11-19/
LOCATION:Online
CATEGORIES:Committee Meeting
END:VEVENT
BEGIN:VEVENT
DTSTART;TZID=America/Los_Angeles:20261127T130000
DTEND;TZID=America/Los_Angeles:20261127T140000
DTSTAMP:20260421T125509
CREATED:20251230T160945Z
LAST-MODIFIED:20251230T160945Z
UID:10000444-1795784400-1795788000@www.mvcac.org
SUMMARY:Lab Technologies Committee
DESCRIPTION:Recurring monthly meetings on the last Friday of every month from 1:00pm – 2:00pm PDT \nZoom meeting link is behind the MVCAC member login here.
URL:https://www.mvcac.org/event/lab-technologies-committee-2/2026-11-27/
LOCATION:Online
CATEGORIES:Committee Meeting
END:VEVENT
END:VCALENDAR