BEGIN:VCALENDAR
VERSION:2.0
PRODID:-//MVCAC - ECPv6.15.20//NONSGML v1.0//EN
CALSCALE:GREGORIAN
METHOD:PUBLISH
X-WR-CALNAME:MVCAC
X-ORIGINAL-URL:https://www.mvcac.org
X-WR-CALDESC:Events for MVCAC
REFRESH-INTERVAL;VALUE=DURATION:PT1H
X-Robots-Tag:noindex
X-PUBLISHED-TTL:PT1H
BEGIN:VTIMEZONE
TZID:America/Los_Angeles
BEGIN:DAYLIGHT
TZOFFSETFROM:-0800
TZOFFSETTO:-0700
TZNAME:PDT
DTSTART:20250309T100000
END:DAYLIGHT
BEGIN:STANDARD
TZOFFSETFROM:-0700
TZOFFSETTO:-0800
TZNAME:PST
DTSTART:20251102T090000
END:STANDARD
BEGIN:DAYLIGHT
TZOFFSETFROM:-0800
TZOFFSETTO:-0700
TZNAME:PDT
DTSTART:20260308T100000
END:DAYLIGHT
BEGIN:STANDARD
TZOFFSETFROM:-0700
TZOFFSETTO:-0800
TZNAME:PST
DTSTART:20261101T090000
END:STANDARD
BEGIN:DAYLIGHT
TZOFFSETFROM:-0800
TZOFFSETTO:-0700
TZNAME:PDT
DTSTART:20270314T100000
END:DAYLIGHT
BEGIN:STANDARD
TZOFFSETFROM:-0700
TZOFFSETTO:-0800
TZNAME:PST
DTSTART:20271107T090000
END:STANDARD
END:VTIMEZONE
BEGIN:VEVENT
DTSTART;TZID=America/Los_Angeles:20260708T130000
DTEND;TZID=America/Los_Angeles:20260708T140000
DTSTAMP:20260421T064753
CREATED:20260420T200328Z
LAST-MODIFIED:20260420T200328Z
UID:10000635-1783515600-1783519200@www.mvcac.org
SUMMARY:Public Relations Committee
DESCRIPTION:Recurring monthly meetings on the second Wednesday of every month from 1:00pm – 2:00pm PDT \nZoom meeting link is behind the MVCAC member login here.
URL:https://www.mvcac.org/event/public-relations-committee/2026-07-08/
LOCATION:Online
CATEGORIES:Committee Meeting
END:VEVENT
BEGIN:VEVENT
DTSTART;TZID=America/Los_Angeles:20260714T090000
DTEND;TZID=America/Los_Angeles:20260714T100000
DTSTAMP:20260421T064753
CREATED:20251209T191858Z
LAST-MODIFIED:20251230T161036Z
UID:10000499-1784019600-1784023200@www.mvcac.org
SUMMARY:Regulatory Affairs Committee Meeting
DESCRIPTION:Recurring monthly meetings on the second Tuesday of every month from 9:00am – 10:00am PDT\n\n\n\n\nZoom meeting link is behind the MVCAC member login here.
URL:https://www.mvcac.org/event/regulatory-affairs-committee-meeting-2/2026-07-14/
LOCATION:Online
CATEGORIES:Committee Meeting
END:VEVENT
BEGIN:VEVENT
DTSTART;TZID=America/Los_Angeles:20260716T133000
DTEND;TZID=America/Los_Angeles:20260716T143000
DTSTAMP:20260421T064753
CREATED:20251209T192101Z
LAST-MODIFIED:20251230T161115Z
UID:10000559-1784208600-1784212200@www.mvcac.org
SUMMARY:IVM Committee Meeting
DESCRIPTION:Recurring monthly meetings on the  3rd Thursday of the month at 1:30pm PDT\n\n\n\n\nZoom meeting link is behind the MVCAC member login here.
URL:https://www.mvcac.org/event/ivm-committee-meeting-2/2026-07-16/
LOCATION:Online
CATEGORIES:Committee Meeting
END:VEVENT
BEGIN:VEVENT
DTSTART;TZID=America/Los_Angeles:20260724T133000
DTEND;TZID=America/Los_Angeles:20260724T143000
DTSTAMP:20260421T064753
CREATED:20260129T151635Z
LAST-MODIFIED:20260129T151645Z
UID:10000623-1784899800-1784903400@www.mvcac.org
SUMMARY:Vector and Vector-borne Disease Committee Meeting
DESCRIPTION:July 24\, 2026 \n1:30 – 2:30 PM \nZoom meeting link is behind the MVCAC member login here.
URL:https://www.mvcac.org/event/vector-and-vector-borne-disease-committee-meeting-6/
LOCATION:Online
CATEGORIES:Committee Meeting
END:VEVENT
BEGIN:VEVENT
DTSTART;TZID=America/Los_Angeles:20260731T130000
DTEND;TZID=America/Los_Angeles:20260731T140000
DTSTAMP:20260421T064753
CREATED:20251230T160945Z
LAST-MODIFIED:20251230T160945Z
UID:10000440-1785502800-1785506400@www.mvcac.org
SUMMARY:Lab Technologies Committee
DESCRIPTION:Recurring monthly meetings on the last Friday of every month from 1:00pm – 2:00pm PDT \nZoom meeting link is behind the MVCAC member login here.
URL:https://www.mvcac.org/event/lab-technologies-committee-2/2026-07-31/
LOCATION:Online
CATEGORIES:Committee Meeting
END:VEVENT
END:VCALENDAR